BEGIN:VCALENDAR
VERSION:2.0
PRODID:-//THE HOPPY BREWER - ECPv6.15.20//NONSGML v1.0//EN
CALSCALE:GREGORIAN
METHOD:PUBLISH
X-WR-CALNAME:THE HOPPY BREWER
X-ORIGINAL-URL:https://oregonshoppyplace.com
X-WR-CALDESC:Events for THE HOPPY BREWER
REFRESH-INTERVAL;VALUE=DURATION:PT1H
X-Robots-Tag:noindex
X-PUBLISHED-TTL:PT1H
BEGIN:VTIMEZONE
TZID:America/Los_Angeles
BEGIN:DAYLIGHT
TZOFFSETFROM:-0800
TZOFFSETTO:-0700
TZNAME:PDT
DTSTART:20180311T100000
END:DAYLIGHT
BEGIN:STANDARD
TZOFFSETFROM:-0700
TZOFFSETTO:-0800
TZNAME:PST
DTSTART:20181104T090000
END:STANDARD
BEGIN:DAYLIGHT
TZOFFSETFROM:-0800
TZOFFSETTO:-0700
TZNAME:PDT
DTSTART:20190310T100000
END:DAYLIGHT
BEGIN:STANDARD
TZOFFSETFROM:-0700
TZOFFSETTO:-0800
TZNAME:PST
DTSTART:20191103T090000
END:STANDARD
BEGIN:DAYLIGHT
TZOFFSETFROM:-0800
TZOFFSETTO:-0700
TZNAME:PDT
DTSTART:20200308T100000
END:DAYLIGHT
BEGIN:STANDARD
TZOFFSETFROM:-0700
TZOFFSETTO:-0800
TZNAME:PST
DTSTART:20201101T090000
END:STANDARD
END:VTIMEZONE
BEGIN:VEVENT
DTSTART;TZID=America/Los_Angeles:20190921T180000
DTEND;TZID=America/Los_Angeles:20190921T210000
DTSTAMP:20260421T193555
CREATED:20190701T024428Z
LAST-MODIFIED:20190701T024428Z
UID:4698-1569088800-1569099600@oregonshoppyplace.com
SUMMARY:Live Music with Plutons Organ Trio
DESCRIPTION:
URL:https://oregonshoppyplace.com/event/live-music-with-plutons-organ-trio-15/
LOCATION:The Hoppy Brewer\, 328 N Main Avenue\, Gresham\, OR\, 97030\, United States
END:VEVENT
BEGIN:VEVENT
DTSTART;TZID=America/Los_Angeles:20190919T180000
DTEND;TZID=America/Los_Angeles:20190919T210000
DTSTAMP:20260421T193555
CREATED:20190224T002339Z
LAST-MODIFIED:20190224T002339Z
UID:4340-1568916000-1568926800@oregonshoppyplace.com
SUMMARY:Live Music with Bob Voll
DESCRIPTION:
URL:https://oregonshoppyplace.com/event/live-music-with-bob-voll-16/
LOCATION:The Hoppy Brewer\, 328 N Main Avenue\, Gresham\, OR\, 97030\, United States
END:VEVENT
BEGIN:VEVENT
DTSTART;TZID=America/Los_Angeles:20190919T170000
DTEND;TZID=America/Los_Angeles:20190919T200000
DTSTAMP:20260421T193555
CREATED:20190626T142228Z
LAST-MODIFIED:20190917T155810Z
UID:4678-1568912400-1568923200@oregonshoppyplace.com
SUMMARY:Beer Event with Boneyard
DESCRIPTION:
URL:https://oregonshoppyplace.com/event/beer-event-with-boneyard/
LOCATION:The Hoppy Brewer\, 328 N Main Avenue\, Gresham\, OR\, 97030\, United States
END:VEVENT
BEGIN:VEVENT
DTSTART;TZID=America/Los_Angeles:20190918T190000
DTEND;TZID=America/Los_Angeles:20190918T210000
DTSTAMP:20260421T193555
CREATED:20190916T192334Z
LAST-MODIFIED:20190916T192334Z
UID:4886-1568833200-1568840400@oregonshoppyplace.com
SUMMARY:Gresham Mashers HBC Meeting
DESCRIPTION:
URL:https://oregonshoppyplace.com/event/gresham-mashers-hbc-meeting-33/
LOCATION:The Hoppy Brewer\, 328 N Main Avenue\, Gresham\, OR\, 97030\, United States
END:VEVENT
BEGIN:VEVENT
DTSTART;TZID=America/Los_Angeles:20190914T180000
DTEND;TZID=America/Los_Angeles:20190914T210000
DTSTAMP:20260421T193555
CREATED:20190528T005857Z
LAST-MODIFIED:20190528T005857Z
UID:4596-1568484000-1568494800@oregonshoppyplace.com
SUMMARY:Live Music with JT Wise Band
DESCRIPTION:
URL:https://oregonshoppyplace.com/event/live-music-with-jt-wise-band-13/
LOCATION:The Hoppy Brewer\, 328 N Main Avenue\, Gresham\, OR\, 97030\, United States
END:VEVENT
BEGIN:VEVENT
DTSTART;TZID=America/Los_Angeles:20190912T183000
DTEND;TZID=America/Los_Angeles:20190912T203000
DTSTAMP:20260421T193555
CREATED:20190626T190930Z
LAST-MODIFIED:20190626T190930Z
UID:4690-1568313000-1568320200@oregonshoppyplace.com
SUMMARY:Beer Event with Laurelwood
DESCRIPTION:
URL:https://oregonshoppyplace.com/event/beer-event-with-laurelwood/
LOCATION:The Hoppy Brewer\, 328 N Main Avenue\, Gresham\, OR\, 97030\, United States
END:VEVENT
BEGIN:VEVENT
DTSTART;TZID=America/Los_Angeles:20190906T180000
DTEND;TZID=America/Los_Angeles:20190906T210000
DTSTAMP:20260421T193555
CREATED:20190407T143156Z
LAST-MODIFIED:20190407T143156Z
UID:4457-1567792800-1567803600@oregonshoppyplace.com
SUMMARY:Live Music with Jonathan Smith Trio
DESCRIPTION:
URL:https://oregonshoppyplace.com/event/live-music-with-jonathan-smith-trio-33/
LOCATION:The Hoppy Brewer\, 328 N Main Avenue\, Gresham\, OR\, 97030\, United States
END:VEVENT
BEGIN:VEVENT
DTSTART;TZID=America/Los_Angeles:20190905T183000
DTEND;TZID=America/Los_Angeles:20190905T203000
DTSTAMP:20260421T193555
CREATED:20190626T184225Z
LAST-MODIFIED:20190626T184225Z
UID:4684-1567708200-1567715400@oregonshoppyplace.com
SUMMARY:Beer Event with Caldera
DESCRIPTION:
URL:https://oregonshoppyplace.com/event/beer-event-with-caldera/
LOCATION:The Hoppy Brewer\, 328 N Main Avenue\, Gresham\, OR\, 97030\, United States
END:VEVENT
BEGIN:VEVENT
DTSTART;TZID=America/Los_Angeles:20190831T180000
DTEND;TZID=America/Los_Angeles:20190831T210000
DTSTAMP:20260421T193555
CREATED:20190122T205740Z
LAST-MODIFIED:20190122T205740Z
UID:4237-1567274400-1567285200@oregonshoppyplace.com
SUMMARY:Live Music with Dorian Michael
DESCRIPTION:
URL:https://oregonshoppyplace.com/event/live-music-with-dorian-michael/
LOCATION:The Hoppy Brewer\, 328 N Main Avenue\, Gresham\, OR\, 97030\, United States
END:VEVENT
BEGIN:VEVENT
DTSTART;TZID=America/Los_Angeles:20190829T183000
DTEND;TZID=America/Los_Angeles:20190829T203000
DTSTAMP:20260421T193555
CREATED:20190626T183931Z
LAST-MODIFIED:20190626T184132Z
UID:4682-1567103400-1567110600@oregonshoppyplace.com
SUMMARY:Beer Event with Rogue
DESCRIPTION:
URL:https://oregonshoppyplace.com/event/beer-event-with-rogue-3/
LOCATION:The Hoppy Brewer\, 328 N Main Avenue\, Gresham\, OR\, 97030\, United States
END:VEVENT
BEGIN:VEVENT
DTSTART;TZID=America/Los_Angeles:20190824T180000
DTEND;TZID=America/Los_Angeles:20190824T210000
DTSTAMP:20260421T193555
CREATED:20190701T024330Z
LAST-MODIFIED:20190701T024330Z
UID:4696-1566669600-1566680400@oregonshoppyplace.com
SUMMARY:Live Music with Plutons Organ Trio
DESCRIPTION:
URL:https://oregonshoppyplace.com/event/live-music-with-plutons-organ-trio-14/
LOCATION:The Hoppy Brewer\, 328 N Main Avenue\, Gresham\, OR\, 97030\, United States
END:VEVENT
BEGIN:VEVENT
DTSTART;TZID=America/Los_Angeles:20190823T180000
DTEND;TZID=America/Los_Angeles:20190823T210000
DTSTAMP:20260421T193555
CREATED:20190822T204107Z
LAST-MODIFIED:20190822T204107Z
UID:4819-1566583200-1566594000@oregonshoppyplace.com
SUMMARY:Live Music with Scratchdog Stringband
DESCRIPTION:
URL:https://oregonshoppyplace.com/event/live-music-with-scratchdog-stringband-20/
LOCATION:The Hoppy Brewer\, 328 N Main Avenue\, Gresham\, OR\, 97030\, United States
END:VEVENT
BEGIN:VEVENT
DTSTART;TZID=America/Los_Angeles:20190822T183000
DTEND;TZID=America/Los_Angeles:20190822T203000
DTSTAMP:20260421T193555
CREATED:20190510T192346Z
LAST-MODIFIED:20190510T192346Z
UID:4548-1566498600-1566505800@oregonshoppyplace.com
SUMMARY:Beer Event with New Belgium Brewing
DESCRIPTION:
URL:https://oregonshoppyplace.com/event/beer-event-with-new-belgium-brewing/
LOCATION:The Hoppy Brewer\, 328 N Main Avenue\, Gresham\, OR\, 97030\, United States
END:VEVENT
BEGIN:VEVENT
DTSTART;TZID=America/Los_Angeles:20190821T190000
DTEND;TZID=America/Los_Angeles:20190821T210000
DTSTAMP:20260421T193555
CREATED:20190623T222648Z
LAST-MODIFIED:20190623T223038Z
UID:4660-1566414000-1566421200@oregonshoppyplace.com
SUMMARY:Gresham Mashers HBC Meeting
DESCRIPTION:
URL:https://oregonshoppyplace.com/event/gresham-mashers-hbc-meeting-32/
LOCATION:The Hoppy Brewer\, 328 N Main Avenue\, Gresham\, OR\, 97030\, United States
END:VEVENT
BEGIN:VEVENT
DTSTART;TZID=America/Los_Angeles:20190817T180000
DTEND;TZID=America/Los_Angeles:20190817T210000
DTSTAMP:20260421T193555
CREATED:20190528T010925Z
LAST-MODIFIED:20190528T010959Z
UID:4602-1566064800-1566075600@oregonshoppyplace.com
SUMMARY:Woodstock's 50th. Anniversary Celebration featuring Live Music with Crooked Corner Band
DESCRIPTION:
URL:https://oregonshoppyplace.com/event/woodstocks-50th-anniversary-celebration-featuring-live-music-with-crooked-corner-band/
LOCATION:The Hoppy Brewer\, 328 N Main Avenue\, Gresham\, OR\, 97030\, United States
END:VEVENT
BEGIN:VEVENT
DTSTART;TZID=America/Los_Angeles:20190816T180000
DTEND;TZID=America/Los_Angeles:20190816T210000
DTSTAMP:20260421T193555
CREATED:20190528T010750Z
LAST-MODIFIED:20190528T010750Z
UID:4600-1565978400-1565989200@oregonshoppyplace.com
SUMMARY:Woodstock's 50th. Anniversary Celebration featuring Live Music with JT Wise Band
DESCRIPTION:
URL:https://oregonshoppyplace.com/event/woodstocks-50th-anniversary-celebration-featuring-live-music-with-jt-wise-band/
LOCATION:The Hoppy Brewer\, 328 N Main Avenue\, Gresham\, OR\, 97030\, United States
END:VEVENT
BEGIN:VEVENT
DTSTART;TZID=America/Los_Angeles:20190815T183000
DTEND;TZID=America/Los_Angeles:20190815T203000
DTSTAMP:20260421T193555
CREATED:20190626T185959Z
LAST-MODIFIED:20190626T190015Z
UID:4686-1565893800-1565901000@oregonshoppyplace.com
SUMMARY:Beer Event with Bouy
DESCRIPTION:
URL:https://oregonshoppyplace.com/event/beer-event-with-bouy/
LOCATION:The Hoppy Brewer\, 328 N Main Avenue\, Gresham\, OR\, 97030\, United States
END:VEVENT
BEGIN:VEVENT
DTSTART;TZID=America/Los_Angeles:20190815T180000
DTEND;TZID=America/Los_Angeles:20190815T210000
DTSTAMP:20260421T193555
CREATED:20190528T010616Z
LAST-MODIFIED:20190528T010616Z
UID:4598-1565892000-1565902800@oregonshoppyplace.com
SUMMARY:Woodstock's 50th. Anniversary Celebration featuring Live Music with Bob Voll
DESCRIPTION:
URL:https://oregonshoppyplace.com/event/woodstocks-50th-anniversary-celebration-featuring-live-music-with-bob-voll/
LOCATION:The Hoppy Brewer\, 328 N Main Avenue\, Gresham\, OR\, 97030\, United States
END:VEVENT
BEGIN:VEVENT
DTSTART;TZID=America/Los_Angeles:20190810T060000
DTEND;TZID=America/Los_Angeles:20190810T210000
DTSTAMP:20260421T193555
CREATED:20190505T142606Z
LAST-MODIFIED:20190505T142640Z
UID:4529-1565416800-1565470800@oregonshoppyplace.com
SUMMARY:Live Music with Just Kicking
DESCRIPTION:
URL:https://oregonshoppyplace.com/event/live-music-with-just-kicking-3/
LOCATION:The Hoppy Brewer\, 328 N Main Avenue\, Gresham\, OR\, 97030\, United States
END:VEVENT
BEGIN:VEVENT
DTSTART;TZID=America/Los_Angeles:20190808T183000
DTEND;TZID=America/Los_Angeles:20190808T203000
DTSTAMP:20260421T193555
CREATED:20190626T183834Z
LAST-MODIFIED:20190626T183834Z
UID:4680-1565289000-1565296200@oregonshoppyplace.com
SUMMARY:Beer Event with Alesmith
DESCRIPTION:
URL:https://oregonshoppyplace.com/event/beer-event-with-alesmith/
LOCATION:The Hoppy Brewer\, 328 N Main Avenue\, Gresham\, OR\, 97030\, United States
END:VEVENT
BEGIN:VEVENT
DTSTART;TZID=America/Los_Angeles:20190802T180000
DTEND;TZID=America/Los_Angeles:20190802T210000
DTSTAMP:20260421T193555
CREATED:20190407T143102Z
LAST-MODIFIED:20190407T143102Z
UID:4455-1564768800-1564779600@oregonshoppyplace.com
SUMMARY:Live Music with Jonathan Smith Trio
DESCRIPTION:
URL:https://oregonshoppyplace.com/event/live-music-with-jonathan-smith-trio-32/
LOCATION:The Hoppy Brewer\, 328 N Main Avenue\, Gresham\, OR\, 97030\, United States
END:VEVENT
BEGIN:VEVENT
DTSTART;TZID=America/Los_Angeles:20190801T183000
DTEND;TZID=America/Los_Angeles:20190801T203000
DTSTAMP:20260421T193555
CREATED:20190626T142122Z
LAST-MODIFIED:20190626T142122Z
UID:4676-1564684200-1564691400@oregonshoppyplace.com
SUMMARY:Beer Event with Modern Times
DESCRIPTION:
URL:https://oregonshoppyplace.com/event/beer-event-with-modern-times/
LOCATION:The Hoppy Brewer\, 328 N Main Avenue\, Gresham\, OR\, 97030\, United States
END:VEVENT
BEGIN:VEVENT
DTSTART;TZID=America/Los_Angeles:20190727T180000
DTEND;TZID=America/Los_Angeles:20190727T210000
DTSTAMP:20260421T193555
CREATED:20190407T225857Z
LAST-MODIFIED:20190407T225857Z
UID:4465-1564250400-1564261200@oregonshoppyplace.com
SUMMARY:Live Music with JT Wise Band
DESCRIPTION:
URL:https://oregonshoppyplace.com/event/live-music-with-jt-wise-band-12/
LOCATION:The Hoppy Brewer\, 328 N Main Avenue\, Gresham\, OR\, 97030\, United States
END:VEVENT
BEGIN:VEVENT
DTSTART;TZID=America/Los_Angeles:20190725T183000
DTEND;TZID=America/Los_Angeles:20190725T203000
DTSTAMP:20260421T193555
CREATED:20190402T033843Z
LAST-MODIFIED:20190402T033843Z
UID:4443-1564079400-1564086600@oregonshoppyplace.com
SUMMARY:Beer Event with Fort George
DESCRIPTION:
URL:https://oregonshoppyplace.com/event/beer-event-with-fort-george-2/
LOCATION:The Hoppy Brewer\, 328 N Main Avenue\, Gresham\, OR\, 97030\, United States
END:VEVENT
BEGIN:VEVENT
DTSTART;TZID=America/Los_Angeles:20190720T180000
DTEND;TZID=America/Los_Angeles:20190720T210000
DTSTAMP:20260421T193555
CREATED:20190407T141635Z
LAST-MODIFIED:20190407T141635Z
UID:4451-1563645600-1563656400@oregonshoppyplace.com
SUMMARY:Live Music with County Line
DESCRIPTION:
URL:https://oregonshoppyplace.com/event/live-music-with-county-line/
LOCATION:The Hoppy Brewer\, 328 N Main Avenue\, Gresham\, OR\, 97030\, United States
END:VEVENT
BEGIN:VEVENT
DTSTART;TZID=America/Los_Angeles:20190718T183000
DTEND;TZID=America/Los_Angeles:20190718T203000
DTSTAMP:20260421T193555
CREATED:20190122T203826Z
LAST-MODIFIED:20190122T203826Z
UID:4235-1563474600-1563481800@oregonshoppyplace.com
SUMMARY:Beer Event with Crux Brewing
DESCRIPTION:
URL:https://oregonshoppyplace.com/event/beer-event-with-crux-brewing-2/
LOCATION:The Hoppy Brewer\, 328 N Main Avenue\, Gresham\, OR\, 97030\, United States
END:VEVENT
BEGIN:VEVENT
DTSTART;TZID=America/Los_Angeles:20190718T180000
DTEND;TZID=America/Los_Angeles:20190718T210000
DTSTAMP:20260421T193555
CREATED:20190129T212623Z
LAST-MODIFIED:20190129T212623Z
UID:4251-1563472800-1563483600@oregonshoppyplace.com
SUMMARY:Live Music with Gordo
DESCRIPTION:Rock out with the One Man Band during our Third Thursday Celebration with Crux Brewing beer event too……
URL:https://oregonshoppyplace.com/event/live-music-with-gordo-2/
LOCATION:The Hoppy Brewer\, 328 N Main Avenue\, Gresham\, OR\, 97030\, United States
END:VEVENT
BEGIN:VEVENT
DTSTART;TZID=America/Los_Angeles:20190717T190000
DTEND;TZID=America/Los_Angeles:20190717T210000
DTSTAMP:20260421T193555
CREATED:20190623T222553Z
LAST-MODIFIED:20190623T222553Z
UID:4658-1563390000-1563397200@oregonshoppyplace.com
SUMMARY:Gresham Mashers HBC Meeting
DESCRIPTION:
URL:https://oregonshoppyplace.com/event/gresham-mashers-hbc-meeting-31/
LOCATION:The Hoppy Brewer\, 328 N Main Avenue\, Gresham\, OR\, 97030\, United States
END:VEVENT
BEGIN:VEVENT
DTSTART;TZID=America/Los_Angeles:20190713T180000
DTEND;TZID=America/Los_Angeles:20190713T210000
DTSTAMP:20260421T193555
CREATED:20190408T214506Z
LAST-MODIFIED:20190408T214506Z
UID:4475-1563040800-1563051600@oregonshoppyplace.com
SUMMARY:Live Music with Plutons Organ Trio
DESCRIPTION:
URL:https://oregonshoppyplace.com/event/live-music-with-plutons-organ-trio-13/
LOCATION:The Hoppy Brewer\, 328 N Main Avenue\, Gresham\, OR\, 97030\, United States
END:VEVENT
BEGIN:VEVENT
DTSTART;TZID=America/Los_Angeles:20190711T183000
DTEND;TZID=America/Los_Angeles:20190711T203000
DTSTAMP:20260421T193555
CREATED:20190510T192445Z
LAST-MODIFIED:20190510T192445Z
UID:4550-1562869800-1562877000@oregonshoppyplace.com
SUMMARY:Beer Event with Melvin Brewing
DESCRIPTION:
URL:https://oregonshoppyplace.com/event/beer-event-with-melvin-brewing-2/
LOCATION:The Hoppy Brewer\, 328 N Main Avenue\, Gresham\, OR\, 97030\, United States
END:VEVENT
END:VCALENDAR