BEGIN:VCALENDAR
VERSION:2.0
PRODID:-//THE HOPPY BREWER - ECPv6.15.20//NONSGML v1.0//EN
CALSCALE:GREGORIAN
METHOD:PUBLISH
X-WR-CALNAME:THE HOPPY BREWER
X-ORIGINAL-URL:https://oregonshoppyplace.com
X-WR-CALDESC:Events for THE HOPPY BREWER
REFRESH-INTERVAL;VALUE=DURATION:PT1H
X-Robots-Tag:noindex
X-PUBLISHED-TTL:PT1H
BEGIN:VTIMEZONE
TZID:America/Los_Angeles
BEGIN:DAYLIGHT
TZOFFSETFROM:-0800
TZOFFSETTO:-0700
TZNAME:PDT
DTSTART:20170312T100000
END:DAYLIGHT
BEGIN:STANDARD
TZOFFSETFROM:-0700
TZOFFSETTO:-0800
TZNAME:PST
DTSTART:20171105T090000
END:STANDARD
BEGIN:DAYLIGHT
TZOFFSETFROM:-0800
TZOFFSETTO:-0700
TZNAME:PDT
DTSTART:20180311T100000
END:DAYLIGHT
BEGIN:STANDARD
TZOFFSETFROM:-0700
TZOFFSETTO:-0800
TZNAME:PST
DTSTART:20181104T090000
END:STANDARD
BEGIN:DAYLIGHT
TZOFFSETFROM:-0800
TZOFFSETTO:-0700
TZNAME:PDT
DTSTART:20190310T100000
END:DAYLIGHT
BEGIN:STANDARD
TZOFFSETFROM:-0700
TZOFFSETTO:-0800
TZNAME:PST
DTSTART:20191103T090000
END:STANDARD
END:VTIMEZONE
BEGIN:VEVENT
DTSTART;TZID=America/Los_Angeles:20181221T180000
DTEND;TZID=America/Los_Angeles:20181221T210000
DTSTAMP:20260422T123604
CREATED:20180919T052949Z
LAST-MODIFIED:20180919T052949Z
UID:3796-1545415200-1545426000@oregonshoppyplace.com
SUMMARY:Live Music with JT Wise Band
DESCRIPTION:
URL:https://oregonshoppyplace.com/event/live-music-with-jt-wise-band-5/
LOCATION:The Hoppy Brewer\, 328 N Main Avenue\, Gresham\, OR\, 97030\, United States
END:VEVENT
BEGIN:VEVENT
DTSTART;TZID=America/Los_Angeles:20181220T183000
DTEND;TZID=America/Los_Angeles:20181220T203000
DTSTAMP:20260422T123604
CREATED:20180926T215111Z
LAST-MODIFIED:20180926T215135Z
UID:3831-1545330600-1545337800@oregonshoppyplace.com
SUMMARY:Beer Event with Fremont Brewing
DESCRIPTION:
URL:https://oregonshoppyplace.com/event/beer-event-with-fremont-brewing/
LOCATION:The Hoppy Brewer\, 328 N Main Avenue\, Gresham\, OR\, 97030\, United States
END:VEVENT
BEGIN:VEVENT
DTSTART;TZID=America/Los_Angeles:20181220T180000
DTEND;TZID=America/Los_Angeles:20181220T210000
DTSTAMP:20260422T123604
CREATED:20181008T195129Z
LAST-MODIFIED:20181008T224041Z
UID:3859-1545328800-1545339600@oregonshoppyplace.com
SUMMARY:Live Music with Bob Voll
DESCRIPTION:
URL:https://oregonshoppyplace.com/event/live-music-with-bob-voll-8/
LOCATION:The Hoppy Brewer\, 328 N Main Avenue\, Gresham\, OR\, 97030\, United States
END:VEVENT
BEGIN:VEVENT
DTSTART;TZID=America/Los_Angeles:20181219T190000
DTEND;TZID=America/Los_Angeles:20181219T210000
DTSTAMP:20260422T123604
CREATED:20180530T203413Z
LAST-MODIFIED:20180530T203413Z
UID:3538-1545246000-1545253200@oregonshoppyplace.com
SUMMARY:Gresham Mashers HBC Meeting
DESCRIPTION:
URL:https://oregonshoppyplace.com/event/gresham-mashers-hbc-meeting-24/
LOCATION:The Hoppy Brewer\, 328 N Main Avenue\, Gresham\, OR\, 97030\, United States
END:VEVENT
BEGIN:VEVENT
DTSTART;TZID=America/Los_Angeles:20181215T150000
DTEND;TZID=America/Los_Angeles:20181215T180000
DTSTAMP:20260422T123604
CREATED:20181105T154813Z
LAST-MODIFIED:20181105T154813Z
UID:3918-1544886000-1544896800@oregonshoppyplace.com
SUMMARY:Pelican Beer Event
DESCRIPTION:This event is part of our Winter’s Welcome Celebration.
URL:https://oregonshoppyplace.com/event/pelican-beer-event/
LOCATION:The Hoppy Brewer\, 328 N Main Avenue\, Gresham\, OR\, 97030\, United States
END:VEVENT
BEGIN:VEVENT
DTSTART;TZID=America/Los_Angeles:20181215T140000
DTEND;TZID=America/Los_Angeles:20181215T210000
DTSTAMP:20260422T123604
CREATED:20181105T155047Z
LAST-MODIFIED:20181105T155235Z
UID:3920-1544882400-1544907600@oregonshoppyplace.com
SUMMARY:Live Music with Jonathan Smith Trio and Plutons Organ Trio
DESCRIPTION:The music is part of our Winter’s Welcome Celebration and beer event….
URL:https://oregonshoppyplace.com/event/live-music-with-jonathan-smith-trio-and-plutons-organ-trio/
LOCATION:The Hoppy Brewer\, 328 N Main Avenue\, Gresham\, OR\, 97030\, United States
END:VEVENT
BEGIN:VEVENT
DTSTART;TZID=America/Los_Angeles:20181215T140000
DTEND;TZID=America/Los_Angeles:20181215T210000
DTSTAMP:20260422T123604
CREATED:20180627T040714Z
LAST-MODIFIED:20181206T222011Z
UID:3609-1544882400-1544907600@oregonshoppyplace.com
SUMMARY:7th. Annual Winter's Welcome
DESCRIPTION:Join us for our 7th. Annual Winter’s Welcome featuring live Music from Jonathan Smith Trio and Plutons Organ Trio and as always\, \nthe most amazing Winter Beer list anywhere……Also\,  Lauren with Pelican Brewing will be on hand from 3-6\, sampling out their  amazing Winter Beers…….. 
URL:https://oregonshoppyplace.com/event/7th-annual-winters-welcome/
LOCATION:The Hoppy Brewer\, 328 N Main Avenue\, Gresham\, OR\, 97030\, United States
END:VEVENT
BEGIN:VEVENT
DTSTART;TZID=America/Los_Angeles:20181213T183000
DTEND;TZID=America/Los_Angeles:20181213T203000
DTSTAMP:20260422T123604
CREATED:20180919T210305Z
LAST-MODIFIED:20181207T224234Z
UID:3798-1544725800-1544733000@oregonshoppyplace.com
SUMMARY:Beer Event with Sierra Nevada and Camp Fire Fundraiser
DESCRIPTION:Come out and help support the victims of the California Camp Fire with this fundraising effort…….  
URL:https://oregonshoppyplace.com/event/beer-event-with-sierra-nevada-4/
LOCATION:The Hoppy Brewer\, 328 N Main Avenue\, Gresham\, OR\, 97030\, United States
END:VEVENT
BEGIN:VEVENT
DTSTART;TZID=America/Los_Angeles:20181207T180000
DTEND;TZID=America/Los_Angeles:20181207T210000
DTSTAMP:20260422T123604
CREATED:20180919T052600Z
LAST-MODIFIED:20180919T052600Z
UID:3794-1544205600-1544216400@oregonshoppyplace.com
SUMMARY:Live Music with Scratchdog Stringband
DESCRIPTION:
URL:https://oregonshoppyplace.com/event/live-music-with-scratchdog-stringband-17/
LOCATION:The Hoppy Brewer\, 328 N Main Avenue\, Gresham\, OR\, 97030\, United States
END:VEVENT
BEGIN:VEVENT
DTSTART;TZID=America/Los_Angeles:20181206T183000
DTEND;TZID=America/Los_Angeles:20181206T203000
DTSTAMP:20260422T123604
CREATED:20180917T025259Z
LAST-MODIFIED:20180917T175611Z
UID:3774-1544121000-1544128200@oregonshoppyplace.com
SUMMARY:Beer Event with Great Divide Brewing
DESCRIPTION:
URL:https://oregonshoppyplace.com/event/beer-event-with-stone-brewing-3/
LOCATION:The Hoppy Brewer\, 328 N Main Avenue\, Gresham\, OR\, 97030\, United States
END:VEVENT
BEGIN:VEVENT
DTSTART;TZID=America/Los_Angeles:20181130T180000
DTEND;TZID=America/Los_Angeles:20181130T210000
DTSTAMP:20260422T123604
CREATED:20180713T232000Z
LAST-MODIFIED:20180713T232000Z
UID:3649-1543600800-1543611600@oregonshoppyplace.com
SUMMARY:Live Music with Big North Duo
DESCRIPTION:
URL:https://oregonshoppyplace.com/event/live-music-with-big-north-duo-2/
LOCATION:The Hoppy Brewer\, 328 N Main Avenue\, Gresham\, OR\, 97030\, United States
END:VEVENT
BEGIN:VEVENT
DTSTART;TZID=America/Los_Angeles:20181129T183000
DTEND;TZID=America/Los_Angeles:20181129T203000
DTSTAMP:20260422T123604
CREATED:20180906T224534Z
LAST-MODIFIED:20180906T224534Z
UID:3739-1543516200-1543523400@oregonshoppyplace.com
SUMMARY:Beer Event with Lagunitas
DESCRIPTION:
URL:https://oregonshoppyplace.com/event/beer-event-with-lagunitas-4/
LOCATION:The Hoppy Brewer\, 328 N Main Avenue\, Gresham\, OR\, 97030\, United States
END:VEVENT
BEGIN:VEVENT
DTSTART;TZID=America/Los_Angeles:20181124T183000
DTEND;TZID=America/Los_Angeles:20181124T213000
DTSTAMP:20260422T123604
CREATED:20180921T213054Z
LAST-MODIFIED:20181117T172748Z
UID:3802-1543084200-1543095000@oregonshoppyplace.com
SUMMARY:Spirit Of Christmas Jazz
DESCRIPTION:Join us for an amazing evening of live Jazz featuring Christmas classic and jazz standards performed by the Tim Paxton Quartet following the lighting of the tree at the Plaza brought to you by The Hoppy Brewer and Gresham Center Of The Arts Foundation…. \n 
URL:https://oregonshoppyplace.com/event/spirit-of-christmas-jazz-2/
LOCATION:The Hoppy Brewer\, 328 N Main Avenue\, Gresham\, OR\, 97030\, United States
END:VEVENT
BEGIN:VEVENT
DTSTART;TZID=America/Los_Angeles:20181123T180000
DTEND;TZID=America/Los_Angeles:20181123T210000
DTSTAMP:20260422T123604
CREATED:20180510T143153Z
LAST-MODIFIED:20180510T143430Z
UID:3461-1542996000-1543006800@oregonshoppyplace.com
SUMMARY:Live Music with Scratchdog Stringband
DESCRIPTION:
URL:https://oregonshoppyplace.com/event/live-music-with-scratchdog-stringband-14/
LOCATION:The Hoppy Brewer\, 328 N Main Avenue\, Gresham\, OR\, 97030\, United States
END:VEVENT
BEGIN:VEVENT
DTSTART;VALUE=DATE:20181122
DTEND;VALUE=DATE:20181123
DTSTAMP:20260422T123604
CREATED:20180906T224720Z
LAST-MODIFIED:20180906T224720Z
UID:3741-1542844800-1542931199@oregonshoppyplace.com
SUMMARY:Closed For Thanksgiving
DESCRIPTION:
URL:https://oregonshoppyplace.com/event/closed-for-thanksgiving-3/
LOCATION:The Hoppy Brewer\, 328 N Main Avenue\, Gresham\, OR\, 97030\, United States
END:VEVENT
BEGIN:VEVENT
DTSTART;TZID=America/Los_Angeles:20181117T180000
DTEND;TZID=America/Los_Angeles:20181117T210000
DTSTAMP:20260422T123604
CREATED:20180906T230241Z
LAST-MODIFIED:20180906T230453Z
UID:3745-1542477600-1542488400@oregonshoppyplace.com
SUMMARY:Live Music with Ky Burt
DESCRIPTION:
URL:https://oregonshoppyplace.com/event/live-music-with-ky-burt-3/
LOCATION:The Hoppy Brewer\, 328 N Main Avenue\, Gresham\, OR\, 97030\, United States
END:VEVENT
BEGIN:VEVENT
DTSTART;TZID=America/Los_Angeles:20181116T180000
DTEND;TZID=America/Los_Angeles:20181116T210000
DTSTAMP:20260422T123604
CREATED:20180626T232201Z
LAST-MODIFIED:20180627T002824Z
UID:3607-1542391200-1542402000@oregonshoppyplace.com
SUMMARY:Live Music with Pluton's Organ Trio
DESCRIPTION:
URL:https://oregonshoppyplace.com/event/live-music-with-plutons-organ-trio-6/
LOCATION:The Hoppy Brewer\, 328 N Main Avenue\, Gresham\, OR\, 97030\, United States
END:VEVENT
BEGIN:VEVENT
DTSTART;TZID=America/Los_Angeles:20181115T183000
DTEND;TZID=America/Los_Angeles:20181115T203000
DTSTAMP:20260422T123604
CREATED:20180828T004333Z
LAST-MODIFIED:20180828T004429Z
UID:3726-1542306600-1542313800@oregonshoppyplace.com
SUMMARY:Beer Event with Oakshire
DESCRIPTION:
URL:https://oregonshoppyplace.com/event/beer-event-with-oakshire/
LOCATION:The Hoppy Brewer\, 328 N Main Avenue\, Gresham\, OR\, 97030\, United States
END:VEVENT
BEGIN:VEVENT
DTSTART;TZID=America/Los_Angeles:20181115T180000
DTEND;TZID=America/Los_Angeles:20181115T210000
DTSTAMP:20260422T123604
CREATED:20181008T195024Z
LAST-MODIFIED:20181008T195024Z
UID:3857-1542304800-1542315600@oregonshoppyplace.com
SUMMARY:Live Music with Bob Voll
DESCRIPTION:
URL:https://oregonshoppyplace.com/event/live-music-with-bob-voll-7/
LOCATION:The Hoppy Brewer\, 328 N Main Avenue\, Gresham\, OR\, 97030\, United States
END:VEVENT
BEGIN:VEVENT
DTSTART;TZID=America/Los_Angeles:20181114T190000
DTEND;TZID=America/Los_Angeles:20181114T210000
DTSTAMP:20260422T123604
CREATED:20180530T203315Z
LAST-MODIFIED:20180530T203315Z
UID:3536-1542222000-1542229200@oregonshoppyplace.com
SUMMARY:Gresham Mashers HBC Meeting
DESCRIPTION:
URL:https://oregonshoppyplace.com/event/gresham-mashers-hbc-meeting-23/
LOCATION:The Hoppy Brewer\, 328 N Main Avenue\, Gresham\, OR\, 97030\, United States
END:VEVENT
BEGIN:VEVENT
DTSTART;TZID=America/Los_Angeles:20181109T180000
DTEND;TZID=America/Los_Angeles:20181109T210000
DTSTAMP:20260422T123604
CREATED:20180712T145119Z
LAST-MODIFIED:20180712T145119Z
UID:3637-1541786400-1541797200@oregonshoppyplace.com
SUMMARY:Live Music with Mark Reynolds
DESCRIPTION:
URL:https://oregonshoppyplace.com/event/live-music-with-mark-reynolds-2/
LOCATION:The Hoppy Brewer\, 328 N Main Avenue\, Gresham\, OR\, 97030\, United States
END:VEVENT
BEGIN:VEVENT
DTSTART;TZID=America/Los_Angeles:20181108T183000
DTEND;TZID=America/Los_Angeles:20181108T203000
DTSTAMP:20260422T123604
CREATED:20180918T174345Z
LAST-MODIFIED:20180918T174345Z
UID:3792-1541701800-1541709000@oregonshoppyplace.com
SUMMARY:Beer Event with Stone Brewing
DESCRIPTION:
URL:https://oregonshoppyplace.com/event/beer-event-with-stone-brewing-4/
LOCATION:The Hoppy Brewer\, 328 N Main Avenue\, Gresham\, OR\, 97030\, United States
END:VEVENT
BEGIN:VEVENT
DTSTART;TZID=America/Los_Angeles:20181102T180000
DTEND;TZID=America/Los_Angeles:20181102T210000
DTSTAMP:20260422T123604
CREATED:20180712T144948Z
LAST-MODIFIED:20180712T144948Z
UID:3635-1541181600-1541192400@oregonshoppyplace.com
SUMMARY:Live Music with Jonathan Smith Trio
DESCRIPTION:
URL:https://oregonshoppyplace.com/event/live-music-with-jonathan-smith-trio-24/
LOCATION:The Hoppy Brewer\, 328 N Main Avenue\, Gresham\, OR\, 97030\, United States
END:VEVENT
BEGIN:VEVENT
DTSTART;TZID=America/Los_Angeles:20181101T183000
DTEND;TZID=America/Los_Angeles:20181101T203000
DTSTAMP:20260422T123604
CREATED:20180827T162355Z
LAST-MODIFIED:20180827T162355Z
UID:3721-1541097000-1541104200@oregonshoppyplace.com
SUMMARY:Beer Event with Golden Valley Brewing
DESCRIPTION:
URL:https://oregonshoppyplace.com/event/beer-event-with-golden-valley-brewing-3/
LOCATION:The Hoppy Brewer\, 328 N Main Avenue\, Gresham\, OR\, 97030\, United States
END:VEVENT
BEGIN:VEVENT
DTSTART;TZID=America/Los_Angeles:20181026T180000
DTEND;TZID=America/Los_Angeles:20181026T200000
DTSTAMP:20260422T123604
CREATED:20180530T193313Z
LAST-MODIFIED:20181019T221622Z
UID:3526-1540576800-1540584000@oregonshoppyplace.com
SUMMARY:Live Music with County Line
DESCRIPTION:
URL:https://oregonshoppyplace.com/event/live-music-with-matt-mesa-3/
LOCATION:The Hoppy Brewer\, 328 N Main Avenue\, Gresham\, OR\, 97030\, United States
END:VEVENT
BEGIN:VEVENT
DTSTART;TZID=America/Los_Angeles:20181025T183000
DTEND;TZID=America/Los_Angeles:20181025T203000
DTSTAMP:20260422T123604
CREATED:20180909T232204Z
LAST-MODIFIED:20180909T232428Z
UID:3758-1540492200-1540499400@oregonshoppyplace.com
SUMMARY:Beer Event with Backwoods Brewing
DESCRIPTION:
URL:https://oregonshoppyplace.com/event/beer-event-with-backwoods-brewing/
LOCATION:The Hoppy Brewer\, 328 N Main Avenue\, Gresham\, OR\, 97030\, United States
END:VEVENT
BEGIN:VEVENT
DTSTART;TZID=America/Los_Angeles:20181019T180000
DTEND;TZID=America/Los_Angeles:20181019T210000
DTSTAMP:20260422T123604
CREATED:20180511T010436Z
LAST-MODIFIED:20180511T010436Z
UID:3465-1539972000-1539982800@oregonshoppyplace.com
SUMMARY:Live Music with Scratchdog Stringband
DESCRIPTION:
URL:https://oregonshoppyplace.com/event/live-music-with-scratchdog-stringband-15/
LOCATION:The Hoppy Brewer\, 328 N Main Avenue\, Gresham\, OR\, 97030\, United States
END:VEVENT
BEGIN:VEVENT
DTSTART;TZID=America/Los_Angeles:20181018T180000
DTEND;TZID=America/Los_Angeles:20181018T210000
DTSTAMP:20260422T123604
CREATED:20180530T014710Z
LAST-MODIFIED:20180530T014710Z
UID:3522-1539885600-1539896400@oregonshoppyplace.com
SUMMARY:Live Music with Bob Voll
DESCRIPTION:
URL:https://oregonshoppyplace.com/event/live-music-with-bob-voll-6/
LOCATION:The Hoppy Brewer\, 328 N Main Avenue\, Gresham\, OR\, 97030\, United States
END:VEVENT
BEGIN:VEVENT
DTSTART;TZID=America/Los_Angeles:20181018T180000
DTEND;TZID=America/Los_Angeles:20181018T200000
DTSTAMP:20260422T123604
CREATED:20180912T165632Z
LAST-MODIFIED:20180912T165632Z
UID:3767-1539885600-1539892800@oregonshoppyplace.com
SUMMARY:Beer Event with Bridgeport Brewing
DESCRIPTION:
URL:https://oregonshoppyplace.com/event/beer-event-with-bridgeport-brewing-2/
LOCATION:The Hoppy Brewer\, 328 N Main Avenue\, Gresham\, OR\, 97030\, United States
END:VEVENT
BEGIN:VEVENT
DTSTART;TZID=America/Los_Angeles:20181017T190000
DTEND;TZID=America/Los_Angeles:20181017T210000
DTSTAMP:20260422T123604
CREATED:20180530T203208Z
LAST-MODIFIED:20180530T203208Z
UID:3534-1539802800-1539810000@oregonshoppyplace.com
SUMMARY:Gresham Mashers HBC Meeting
DESCRIPTION:
URL:https://oregonshoppyplace.com/event/gresham-mashers-hbc-meeting-22/
LOCATION:The Hoppy Brewer\, 328 N Main Avenue\, Gresham\, OR\, 97030\, United States
END:VEVENT
END:VCALENDAR