BEGIN:VCALENDAR
VERSION:2.0
PRODID:-//THE HOPPY BREWER - ECPv6.15.20//NONSGML v1.0//EN
CALSCALE:GREGORIAN
METHOD:PUBLISH
X-WR-CALNAME:THE HOPPY BREWER
X-ORIGINAL-URL:https://oregonshoppyplace.com
X-WR-CALDESC:Events for THE HOPPY BREWER
REFRESH-INTERVAL;VALUE=DURATION:PT1H
X-Robots-Tag:noindex
X-PUBLISHED-TTL:PT1H
BEGIN:VTIMEZONE
TZID:America/Los_Angeles
BEGIN:DAYLIGHT
TZOFFSETFROM:-0800
TZOFFSETTO:-0700
TZNAME:PDT
DTSTART:20170312T100000
END:DAYLIGHT
BEGIN:STANDARD
TZOFFSETFROM:-0700
TZOFFSETTO:-0800
TZNAME:PST
DTSTART:20171105T090000
END:STANDARD
BEGIN:DAYLIGHT
TZOFFSETFROM:-0800
TZOFFSETTO:-0700
TZNAME:PDT
DTSTART:20180311T100000
END:DAYLIGHT
BEGIN:STANDARD
TZOFFSETFROM:-0700
TZOFFSETTO:-0800
TZNAME:PST
DTSTART:20181104T090000
END:STANDARD
BEGIN:DAYLIGHT
TZOFFSETFROM:-0800
TZOFFSETTO:-0700
TZNAME:PDT
DTSTART:20190310T100000
END:DAYLIGHT
BEGIN:STANDARD
TZOFFSETFROM:-0700
TZOFFSETTO:-0800
TZNAME:PST
DTSTART:20191103T090000
END:STANDARD
END:VTIMEZONE
BEGIN:VEVENT
DTSTART;TZID=America/Los_Angeles:20181109T180000
DTEND;TZID=America/Los_Angeles:20181109T210000
DTSTAMP:20260422T160215
CREATED:20180712T145119Z
LAST-MODIFIED:20180712T145119Z
UID:3637-1541786400-1541797200@oregonshoppyplace.com
SUMMARY:Live Music with Mark Reynolds
DESCRIPTION:
URL:https://oregonshoppyplace.com/event/live-music-with-mark-reynolds-2/
LOCATION:The Hoppy Brewer\, 328 N Main Avenue\, Gresham\, OR\, 97030\, United States
END:VEVENT
BEGIN:VEVENT
DTSTART;TZID=America/Los_Angeles:20181108T183000
DTEND;TZID=America/Los_Angeles:20181108T203000
DTSTAMP:20260422T160215
CREATED:20180918T174345Z
LAST-MODIFIED:20180918T174345Z
UID:3792-1541701800-1541709000@oregonshoppyplace.com
SUMMARY:Beer Event with Stone Brewing
DESCRIPTION:
URL:https://oregonshoppyplace.com/event/beer-event-with-stone-brewing-4/
LOCATION:The Hoppy Brewer\, 328 N Main Avenue\, Gresham\, OR\, 97030\, United States
END:VEVENT
BEGIN:VEVENT
DTSTART;TZID=America/Los_Angeles:20181102T180000
DTEND;TZID=America/Los_Angeles:20181102T210000
DTSTAMP:20260422T160215
CREATED:20180712T144948Z
LAST-MODIFIED:20180712T144948Z
UID:3635-1541181600-1541192400@oregonshoppyplace.com
SUMMARY:Live Music with Jonathan Smith Trio
DESCRIPTION:
URL:https://oregonshoppyplace.com/event/live-music-with-jonathan-smith-trio-24/
LOCATION:The Hoppy Brewer\, 328 N Main Avenue\, Gresham\, OR\, 97030\, United States
END:VEVENT
BEGIN:VEVENT
DTSTART;TZID=America/Los_Angeles:20181101T183000
DTEND;TZID=America/Los_Angeles:20181101T203000
DTSTAMP:20260422T160215
CREATED:20180827T162355Z
LAST-MODIFIED:20180827T162355Z
UID:3721-1541097000-1541104200@oregonshoppyplace.com
SUMMARY:Beer Event with Golden Valley Brewing
DESCRIPTION:
URL:https://oregonshoppyplace.com/event/beer-event-with-golden-valley-brewing-3/
LOCATION:The Hoppy Brewer\, 328 N Main Avenue\, Gresham\, OR\, 97030\, United States
END:VEVENT
BEGIN:VEVENT
DTSTART;TZID=America/Los_Angeles:20181026T180000
DTEND;TZID=America/Los_Angeles:20181026T200000
DTSTAMP:20260422T160215
CREATED:20180530T193313Z
LAST-MODIFIED:20181019T221622Z
UID:3526-1540576800-1540584000@oregonshoppyplace.com
SUMMARY:Live Music with County Line
DESCRIPTION:
URL:https://oregonshoppyplace.com/event/live-music-with-matt-mesa-3/
LOCATION:The Hoppy Brewer\, 328 N Main Avenue\, Gresham\, OR\, 97030\, United States
END:VEVENT
BEGIN:VEVENT
DTSTART;TZID=America/Los_Angeles:20181025T183000
DTEND;TZID=America/Los_Angeles:20181025T203000
DTSTAMP:20260422T160215
CREATED:20180909T232204Z
LAST-MODIFIED:20180909T232428Z
UID:3758-1540492200-1540499400@oregonshoppyplace.com
SUMMARY:Beer Event with Backwoods Brewing
DESCRIPTION:
URL:https://oregonshoppyplace.com/event/beer-event-with-backwoods-brewing/
LOCATION:The Hoppy Brewer\, 328 N Main Avenue\, Gresham\, OR\, 97030\, United States
END:VEVENT
BEGIN:VEVENT
DTSTART;TZID=America/Los_Angeles:20181019T180000
DTEND;TZID=America/Los_Angeles:20181019T210000
DTSTAMP:20260422T160215
CREATED:20180511T010436Z
LAST-MODIFIED:20180511T010436Z
UID:3465-1539972000-1539982800@oregonshoppyplace.com
SUMMARY:Live Music with Scratchdog Stringband
DESCRIPTION:
URL:https://oregonshoppyplace.com/event/live-music-with-scratchdog-stringband-15/
LOCATION:The Hoppy Brewer\, 328 N Main Avenue\, Gresham\, OR\, 97030\, United States
END:VEVENT
BEGIN:VEVENT
DTSTART;TZID=America/Los_Angeles:20181018T180000
DTEND;TZID=America/Los_Angeles:20181018T210000
DTSTAMP:20260422T160215
CREATED:20180530T014710Z
LAST-MODIFIED:20180530T014710Z
UID:3522-1539885600-1539896400@oregonshoppyplace.com
SUMMARY:Live Music with Bob Voll
DESCRIPTION:
URL:https://oregonshoppyplace.com/event/live-music-with-bob-voll-6/
LOCATION:The Hoppy Brewer\, 328 N Main Avenue\, Gresham\, OR\, 97030\, United States
END:VEVENT
BEGIN:VEVENT
DTSTART;TZID=America/Los_Angeles:20181018T180000
DTEND;TZID=America/Los_Angeles:20181018T200000
DTSTAMP:20260422T160215
CREATED:20180912T165632Z
LAST-MODIFIED:20180912T165632Z
UID:3767-1539885600-1539892800@oregonshoppyplace.com
SUMMARY:Beer Event with Bridgeport Brewing
DESCRIPTION:
URL:https://oregonshoppyplace.com/event/beer-event-with-bridgeport-brewing-2/
LOCATION:The Hoppy Brewer\, 328 N Main Avenue\, Gresham\, OR\, 97030\, United States
END:VEVENT
BEGIN:VEVENT
DTSTART;TZID=America/Los_Angeles:20181017T190000
DTEND;TZID=America/Los_Angeles:20181017T210000
DTSTAMP:20260422T160215
CREATED:20180530T203208Z
LAST-MODIFIED:20180530T203208Z
UID:3534-1539802800-1539810000@oregonshoppyplace.com
SUMMARY:Gresham Mashers HBC Meeting
DESCRIPTION:
URL:https://oregonshoppyplace.com/event/gresham-mashers-hbc-meeting-22/
LOCATION:The Hoppy Brewer\, 328 N Main Avenue\, Gresham\, OR\, 97030\, United States
END:VEVENT
BEGIN:VEVENT
DTSTART;TZID=America/Los_Angeles:20181013T180000
DTEND;TZID=America/Los_Angeles:20181013T210000
DTSTAMP:20260422T160215
CREATED:20180508T175019Z
LAST-MODIFIED:20180508T175019Z
UID:3449-1539453600-1539464400@oregonshoppyplace.com
SUMMARY:Live Music with Dogwood Stringband
DESCRIPTION:
URL:https://oregonshoppyplace.com/event/live-music-with-dogwood-stringband-2/
LOCATION:The Hoppy Brewer\, 328 N Main Avenue\, Gresham\, OR\, 97030\, United States
END:VEVENT
BEGIN:VEVENT
DTSTART;TZID=America/Los_Angeles:20181011T183000
DTEND;TZID=America/Los_Angeles:20181011T203000
DTSTAMP:20260422T160215
CREATED:20180917T043030Z
LAST-MODIFIED:20180917T043030Z
UID:3776-1539282600-1539289800@oregonshoppyplace.com
SUMMARY:Kombucha Event with Pippin Kombuchary
DESCRIPTION:
URL:https://oregonshoppyplace.com/event/kombucha-event-with-pippin-kombuchary/
LOCATION:The Hoppy Brewer\, 328 N Main Avenue\, Gresham\, OR\, 97030\, United States
END:VEVENT
BEGIN:VEVENT
DTSTART;TZID=America/Los_Angeles:20181006T180000
DTEND;TZID=America/Los_Angeles:20181006T210000
DTSTAMP:20260422T160215
CREATED:20180625T222803Z
LAST-MODIFIED:20180625T222803Z
UID:3601-1538848800-1538859600@oregonshoppyplace.com
SUMMARY:Live Music with Crooked Corner Band
DESCRIPTION:
URL:https://oregonshoppyplace.com/event/live-music-with-crooked-corner-band/
LOCATION:The Hoppy Brewer\, 328 N Main Avenue\, Gresham\, OR\, 97030\, United States
END:VEVENT
BEGIN:VEVENT
DTSTART;TZID=America/Los_Angeles:20181004T183000
DTEND;TZID=America/Los_Angeles:20181004T203000
DTSTAMP:20260422T160215
CREATED:20180727T160739Z
LAST-MODIFIED:20180727T160739Z
UID:3670-1538677800-1538685000@oregonshoppyplace.com
SUMMARY:Beer Event with Firestone Walker
DESCRIPTION:
URL:https://oregonshoppyplace.com/event/beer-event-with-firestone-walker-3/
LOCATION:The Hoppy Brewer\, 328 N Main Avenue\, Gresham\, OR\, 97030\, United States
END:VEVENT
BEGIN:VEVENT
DTSTART;TZID=America/Los_Angeles:20180929T180000
DTEND;TZID=America/Los_Angeles:20180929T210000
DTSTAMP:20260422T160216
CREATED:20180923T210851Z
LAST-MODIFIED:20180923T210851Z
UID:3817-1538244000-1538254800@oregonshoppyplace.com
SUMMARY:Live Music with Matt Mesa and Kerry Williams
DESCRIPTION:
URL:https://oregonshoppyplace.com/event/live-music-with-matt-mesa-and-kerry-williams/
LOCATION:The Hoppy Brewer\, 328 N Main Avenue\, Gresham\, OR\, 97030\, United States
END:VEVENT
BEGIN:VEVENT
DTSTART;TZID=America/Los_Angeles:20180929T120000
DTEND;TZID=America/Los_Angeles:20180929T210000
DTSTAMP:20260422T160216
CREATED:20180601T204918Z
LAST-MODIFIED:20180923T210707Z
UID:3551-1538222400-1538254800@oregonshoppyplace.com
SUMMARY:6th. Annual Moo -N- Brew
DESCRIPTION:6 Annual Moo-N-Brew featuring Oktoberfest Biers from Germany  and the Local Cow grilling up Brats in the Courtyard from 12 noon til they run out\, then live music with Matt Mesa from 6-9…….
URL:https://oregonshoppyplace.com/event/live-music-with-matt-mesa-2/
LOCATION:The Hoppy Brewer\, 328 N Main Avenue\, Gresham\, OR\, 97030\, United States
END:VEVENT
BEGIN:VEVENT
DTSTART;TZID=America/Los_Angeles:20180927T183000
DTEND;TZID=America/Los_Angeles:20180927T203000
DTSTAMP:20260422T160216
CREATED:20180529T230614Z
LAST-MODIFIED:20180529T230614Z
UID:3512-1538073000-1538080200@oregonshoppyplace.com
SUMMARY:Beer Event with Zoiglhaus
DESCRIPTION:
URL:https://oregonshoppyplace.com/event/beer-event-with-zoiglhaus-2/
LOCATION:The Hoppy Brewer\, 328 N Main Avenue\, Gresham\, OR\, 97030\, United States
END:VEVENT
BEGIN:VEVENT
DTSTART;TZID=America/Los_Angeles:20180921T180000
DTEND;TZID=America/Los_Angeles:20180921T210000
DTSTAMP:20260422T160216
CREATED:20180510T143012Z
LAST-MODIFIED:20180510T143012Z
UID:3459-1537552800-1537563600@oregonshoppyplace.com
SUMMARY:Live Music with Scratchdog Stringband
DESCRIPTION:
URL:https://oregonshoppyplace.com/event/live-music-with-scratchdog-stringband-10/
LOCATION:The Hoppy Brewer\, 328 N Main Avenue\, Gresham\, OR\, 97030\, United States
END:VEVENT
BEGIN:VEVENT
DTSTART;TZID=America/Los_Angeles:20180920T180000
DTEND;TZID=America/Los_Angeles:20180920T210000
DTSTAMP:20260422T160216
CREATED:20180509T202510Z
LAST-MODIFIED:20180509T203146Z
UID:3457-1537466400-1537477200@oregonshoppyplace.com
SUMMARY:Live Music with Bob Voll
DESCRIPTION:
URL:https://oregonshoppyplace.com/event/live-music-with-bob-voll-5/
LOCATION:The Hoppy Brewer\, 328 N Main Avenue\, Gresham\, OR\, 97030\, United States
END:VEVENT
BEGIN:VEVENT
DTSTART;TZID=America/Los_Angeles:20180920T053000
DTEND;TZID=America/Los_Angeles:20180920T203000
DTSTAMP:20260422T160216
CREATED:20180605T001745Z
LAST-MODIFIED:20180605T001745Z
UID:3557-1537421400-1537475400@oregonshoppyplace.com
SUMMARY:Beer and Cider Event with Two Beers and Seattle Cider Company
DESCRIPTION:
URL:https://oregonshoppyplace.com/event/beer-and-cider-event-with-two-beers-and-seattle-cider-company/
LOCATION:The Hoppy Brewer\, 328 N Main Avenue\, Gresham\, OR\, 97030\, United States
END:VEVENT
BEGIN:VEVENT
DTSTART;TZID=America/Los_Angeles:20180919T190000
DTEND;TZID=America/Los_Angeles:20180919T210000
DTSTAMP:20260422T160216
CREATED:20180530T203054Z
LAST-MODIFIED:20180530T203054Z
UID:3532-1537383600-1537390800@oregonshoppyplace.com
SUMMARY:Gresham Mashers HBC Meeting
DESCRIPTION:
URL:https://oregonshoppyplace.com/event/gresham-mashers-hbc-meeting-21/
LOCATION:The Hoppy Brewer\, 328 N Main Avenue\, Gresham\, OR\, 97030\, United States
END:VEVENT
BEGIN:VEVENT
DTSTART;TZID=America/Los_Angeles:20180914T180000
DTEND;TZID=America/Los_Angeles:20180914T210000
DTSTAMP:20260422T160216
CREATED:20180529T232503Z
LAST-MODIFIED:20180529T232503Z
UID:3516-1536948000-1536958800@oregonshoppyplace.com
SUMMARY:Live Music with Plutons Organ Trio
DESCRIPTION:
URL:https://oregonshoppyplace.com/event/live-music-with-plutons-organ-trio-5/
LOCATION:The Hoppy Brewer\, 328 N Main Avenue\, Gresham\, OR\, 97030\, United States
END:VEVENT
BEGIN:VEVENT
DTSTART;TZID=America/Los_Angeles:20180913T183000
DTEND;TZID=America/Los_Angeles:20180913T203000
DTSTAMP:20260422T160216
CREATED:20180615T134239Z
LAST-MODIFIED:20180615T134239Z
UID:3576-1536863400-1536870600@oregonshoppyplace.com
SUMMARY:Beer Event with Mazama Brewing
DESCRIPTION:
URL:https://oregonshoppyplace.com/event/beer-event-with-mazama-brewing/
LOCATION:The Hoppy Brewer\, 328 N Main Avenue\, Gresham\, OR\, 97030\, United States
END:VEVENT
BEGIN:VEVENT
DTSTART;TZID=America/Los_Angeles:20180908T180000
DTEND;TZID=America/Los_Angeles:20180908T210000
DTSTAMP:20260422T160216
CREATED:20180508T174908Z
LAST-MODIFIED:20180825T015919Z
UID:3447-1536429600-1536440400@oregonshoppyplace.com
SUMMARY:Live Music with Crooked Corner Band
DESCRIPTION:
URL:https://oregonshoppyplace.com/event/live-music-with-dogwood-stringband/
LOCATION:The Hoppy Brewer\, 328 N Main Avenue\, Gresham\, OR\, 97030\, United States
END:VEVENT
BEGIN:VEVENT
DTSTART;TZID=America/Los_Angeles:20180901T180000
DTEND;TZID=America/Los_Angeles:20180901T210000
DTSTAMP:20260422T160216
CREATED:20180602T021907Z
LAST-MODIFIED:20180602T021907Z
UID:3555-1535824800-1535835600@oregonshoppyplace.com
SUMMARY:Live Music with Jonathan Smith Trio
DESCRIPTION:
URL:https://oregonshoppyplace.com/event/live-music-with-jonathan-smith-trio-23/
LOCATION:The Hoppy Brewer\, 328 N Main Avenue\, Gresham\, OR\, 97030\, United States
END:VEVENT
BEGIN:VEVENT
DTSTART;TZID=America/Los_Angeles:20180830T183000
DTEND;TZID=America/Los_Angeles:20180830T203000
DTSTAMP:20260422T160216
CREATED:20180605T220734Z
LAST-MODIFIED:20180605T220734Z
UID:3560-1535653800-1535661000@oregonshoppyplace.com
SUMMARY:Beer Event with Ecliptic
DESCRIPTION:
URL:https://oregonshoppyplace.com/event/beer-event-with-ecliptic-2/
LOCATION:The Hoppy Brewer\, 328 N Main Avenue\, Gresham\, OR\, 97030\, United States
END:VEVENT
BEGIN:VEVENT
DTSTART;TZID=America/Los_Angeles:20180825T180000
DTEND;TZID=America/Los_Angeles:20180825T210000
DTSTAMP:20260422T160216
CREATED:20180307T004358Z
LAST-MODIFIED:20180307T004358Z
UID:3286-1535220000-1535230800@oregonshoppyplace.com
SUMMARY:Live Music with Scratchdog Stringband
DESCRIPTION:
URL:https://oregonshoppyplace.com/event/live-music-with-scratchdog-stringband-12/
LOCATION:The Hoppy Brewer\, 328 N Main Avenue\, Gresham\, OR\, 97030\, United States
END:VEVENT
BEGIN:VEVENT
DTSTART;TZID=America/Los_Angeles:20180823T183000
DTEND;TZID=America/Los_Angeles:20180823T203000
DTSTAMP:20260422T160216
CREATED:20180418T172519Z
LAST-MODIFIED:20180418T172519Z
UID:3403-1535049000-1535056200@oregonshoppyplace.com
SUMMARY:Beer Event with Pfriem
DESCRIPTION:
URL:https://oregonshoppyplace.com/event/beer-event-with-pfriem/
LOCATION:The Hoppy Brewer\, 328 N Main Avenue\, Gresham\, OR\, 97030\, United States
END:VEVENT
BEGIN:VEVENT
DTSTART;TZID=America/Los_Angeles:20180822T190000
DTEND;TZID=America/Los_Angeles:20180822T210000
DTSTAMP:20260422T160216
CREATED:20180530T202953Z
LAST-MODIFIED:20180530T202953Z
UID:3530-1534964400-1534971600@oregonshoppyplace.com
SUMMARY:Gresham Mashers HBC Meeting
DESCRIPTION:
URL:https://oregonshoppyplace.com/event/gresham-mashers-hbc-meeting-20/
LOCATION:The Hoppy Brewer\, 328 N Main Avenue\, Gresham\, OR\, 97030\, United States
END:VEVENT
BEGIN:VEVENT
DTSTART;TZID=America/Los_Angeles:20180818T180000
DTEND;TZID=America/Los_Angeles:20180818T210000
DTSTAMP:20260422T160216
CREATED:20180602T021750Z
LAST-MODIFIED:20180602T021750Z
UID:3553-1534615200-1534626000@oregonshoppyplace.com
SUMMARY:Live Music with Jonathan Smith Trio
DESCRIPTION:
URL:https://oregonshoppyplace.com/event/live-music-with-jonathan-smith-trio-22/
LOCATION:The Hoppy Brewer\, 328 N Main Avenue\, Gresham\, OR\, 97030\, United States
END:VEVENT
END:VCALENDAR