BEGIN:VCALENDAR
VERSION:2.0
PRODID:-//THE HOPPY BREWER - ECPv6.15.20//NONSGML v1.0//EN
CALSCALE:GREGORIAN
METHOD:PUBLISH
X-WR-CALNAME:THE HOPPY BREWER
X-ORIGINAL-URL:https://oregonshoppyplace.com
X-WR-CALDESC:Events for THE HOPPY BREWER
REFRESH-INTERVAL;VALUE=DURATION:PT1H
X-Robots-Tag:noindex
X-PUBLISHED-TTL:PT1H
BEGIN:VTIMEZONE
TZID:America/Los_Angeles
BEGIN:DAYLIGHT
TZOFFSETFROM:-0800
TZOFFSETTO:-0700
TZNAME:PDT
DTSTART:20170312T100000
END:DAYLIGHT
BEGIN:STANDARD
TZOFFSETFROM:-0700
TZOFFSETTO:-0800
TZNAME:PST
DTSTART:20171105T090000
END:STANDARD
BEGIN:DAYLIGHT
TZOFFSETFROM:-0800
TZOFFSETTO:-0700
TZNAME:PDT
DTSTART:20180311T100000
END:DAYLIGHT
BEGIN:STANDARD
TZOFFSETFROM:-0700
TZOFFSETTO:-0800
TZNAME:PST
DTSTART:20181104T090000
END:STANDARD
BEGIN:DAYLIGHT
TZOFFSETFROM:-0800
TZOFFSETTO:-0700
TZNAME:PDT
DTSTART:20190310T100000
END:DAYLIGHT
BEGIN:STANDARD
TZOFFSETFROM:-0700
TZOFFSETTO:-0800
TZNAME:PST
DTSTART:20191103T090000
END:STANDARD
END:VTIMEZONE
BEGIN:VEVENT
DTSTART;TZID=America/Los_Angeles:20180330T180000
DTEND;TZID=America/Los_Angeles:20180330T210000
DTSTAMP:20260423T063019
CREATED:20171213T210354Z
LAST-MODIFIED:20171213T210354Z
UID:3038-1522432800-1522443600@oregonshoppyplace.com
SUMMARY:Live Music with Big North Duo
DESCRIPTION:
URL:https://oregonshoppyplace.com/event/live-music-with-big-north-duo/
LOCATION:The Hoppy Brewer\, 328 N Main Avenue\, Gresham\, OR\, 97030\, United States
END:VEVENT
BEGIN:VEVENT
DTSTART;TZID=America/Los_Angeles:20180329T183000
DTEND;TZID=America/Los_Angeles:20180329T203000
DTSTAMP:20260423T063019
CREATED:20180208T235647Z
LAST-MODIFIED:20180208T235647Z
UID:3214-1522348200-1522355400@oregonshoppyplace.com
SUMMARY:Beer Event with Stone Brewing
DESCRIPTION:
URL:https://oregonshoppyplace.com/event/beer-event-with-stone-brewing-2/
LOCATION:The Hoppy Brewer\, 328 N Main Avenue\, Gresham\, OR\, 97030\, United States
END:VEVENT
BEGIN:VEVENT
DTSTART;TZID=America/Los_Angeles:20180323T180000
DTEND;TZID=America/Los_Angeles:20180323T210000
DTSTAMP:20260423T063019
CREATED:20171110T212224Z
LAST-MODIFIED:20171110T212224Z
UID:2939-1521828000-1521838800@oregonshoppyplace.com
SUMMARY:Live Music with Scratchdog Stringband
DESCRIPTION:
URL:https://oregonshoppyplace.com/event/live-music-with-scratchdog-stringband-7/
LOCATION:The Hoppy Brewer\, 328 N Main Avenue\, Gresham\, OR\, 97030\, United States
END:VEVENT
BEGIN:VEVENT
DTSTART;TZID=America/Los_Angeles:20180322T183000
DTEND;TZID=America/Los_Angeles:20180322T203000
DTSTAMP:20260423T063019
CREATED:20180116T142108Z
LAST-MODIFIED:20180116T142108Z
UID:3124-1521743400-1521750600@oregonshoppyplace.com
SUMMARY:Beer Event with Dogfish Head
DESCRIPTION:
URL:https://oregonshoppyplace.com/event/beer-event-with-dogfish-head-3/
LOCATION:The Hoppy Brewer\, 328 N Main Avenue\, Gresham\, OR\, 97030\, United States
END:VEVENT
BEGIN:VEVENT
DTSTART;TZID=America/Los_Angeles:20180321T190000
DTEND;TZID=America/Los_Angeles:20180321T210000
DTSTAMP:20260423T063019
CREATED:20180302T160712Z
LAST-MODIFIED:20180302T160712Z
UID:3268-1521658800-1521666000@oregonshoppyplace.com
SUMMARY:Gresham Mashers HBC Meeting
DESCRIPTION:
URL:https://oregonshoppyplace.com/event/gresham-mashers-hbc-meeting-15/
LOCATION:The Hoppy Brewer\, 328 N Main Avenue\, Gresham\, OR\, 97030\, United States
END:VEVENT
BEGIN:VEVENT
DTSTART;TZID=America/Los_Angeles:20180317T180000
DTEND;TZID=America/Los_Angeles:20180317T210000
DTSTAMP:20260423T063019
CREATED:20180119T150711Z
LAST-MODIFIED:20180119T150823Z
UID:3134-1521309600-1521320400@oregonshoppyplace.com
SUMMARY:Live Music with Bodacious
DESCRIPTION:
URL:https://oregonshoppyplace.com/event/live-music-with-bodacious-4/
LOCATION:The Hoppy Brewer\, 328 N Main Avenue\, Gresham\, OR\, 97030\, United States
END:VEVENT
BEGIN:VEVENT
DTSTART;TZID=America/Los_Angeles:20180316T180000
DTEND;TZID=America/Los_Angeles:20180316T210000
DTSTAMP:20260423T063019
CREATED:20171212T050716Z
LAST-MODIFIED:20171212T050716Z
UID:3033-1521223200-1521234000@oregonshoppyplace.com
SUMMARY:Live Music with Jonathan Smith Trio
DESCRIPTION:
URL:https://oregonshoppyplace.com/event/live-music-with-jonathan-smith-trio-18/
LOCATION:The Hoppy Brewer\, 328 N Main Avenue\, Gresham\, OR\, 97030\, United States
END:VEVENT
BEGIN:VEVENT
DTSTART;TZID=America/Los_Angeles:20180315T183000
DTEND;TZID=America/Los_Angeles:20180315T203000
DTSTAMP:20260423T063019
CREATED:20180123T235933Z
LAST-MODIFIED:20180123T235933Z
UID:3171-1521138600-1521145800@oregonshoppyplace.com
SUMMARY:Beer Event with Backwoods
DESCRIPTION:
URL:https://oregonshoppyplace.com/event/beer-event-with-backwoods/
LOCATION:The Hoppy Brewer\, 328 N Main Avenue\, Gresham\, OR\, 97030\, United States
END:VEVENT
BEGIN:VEVENT
DTSTART;TZID=America/Los_Angeles:20180315T173000
DTEND;TZID=America/Los_Angeles:20180315T203000
DTSTAMP:20260423T063019
CREATED:20171227T212924Z
LAST-MODIFIED:20171227T212924Z
UID:3073-1521135000-1521145800@oregonshoppyplace.com
SUMMARY:Live Music with Bob Voll
DESCRIPTION:As part of our Third Thursday series
URL:https://oregonshoppyplace.com/event/live-music-with-bob-voll-2/
LOCATION:The Hoppy Brewer\, 328 N Main Avenue\, Gresham\, OR\, 97030\, United States
END:VEVENT
BEGIN:VEVENT
DTSTART;TZID=America/Los_Angeles:20180309T180000
DTEND;TZID=America/Los_Angeles:20180309T210000
DTSTAMP:20260423T063019
CREATED:20171214T145230Z
LAST-MODIFIED:20180104T012732Z
UID:3042-1520618400-1520629200@oregonshoppyplace.com
SUMMARY:Live Music with Mark Reynolds and Friends
DESCRIPTION:
URL:https://oregonshoppyplace.com/event/live-music-with-mesa-reynolds/
LOCATION:The Hoppy Brewer\, 328 N Main Avenue\, Gresham\, OR\, 97030\, United States
END:VEVENT
BEGIN:VEVENT
DTSTART;TZID=America/Los_Angeles:20180308T183000
DTEND;TZID=America/Los_Angeles:20180308T203000
DTSTAMP:20260423T063019
CREATED:20171116T231845Z
LAST-MODIFIED:20171116T231845Z
UID:2969-1520533800-1520541000@oregonshoppyplace.com
SUMMARY:Beer Event with Block 15
DESCRIPTION:
URL:https://oregonshoppyplace.com/event/beer-event-with-block-15-2/
LOCATION:The Hoppy Brewer\, 328 N Main Avenue\, Gresham\, OR\, 97030\, United States
END:VEVENT
BEGIN:VEVENT
DTSTART;TZID=America/Los_Angeles:20180303T180000
DTEND;TZID=America/Los_Angeles:20180303T210000
DTSTAMP:20260423T063019
CREATED:20171115T173414Z
LAST-MODIFIED:20171115T173446Z
UID:2960-1520100000-1520110800@oregonshoppyplace.com
SUMMARY:Live Music with Swingali
DESCRIPTION:
URL:https://oregonshoppyplace.com/event/live-music-with-swingali-3/
LOCATION:The Hoppy Brewer\, 328 N Main Avenue\, Gresham\, OR\, 97030\, United States
END:VEVENT
BEGIN:VEVENT
DTSTART;TZID=America/Los_Angeles:20180301T183000
DTEND;TZID=America/Los_Angeles:20180301T203000
DTSTAMP:20260423T063019
CREATED:20180206T202852Z
LAST-MODIFIED:20180206T202912Z
UID:3212-1519929000-1519936200@oregonshoppyplace.com
SUMMARY:Beer Event with Zoiglhaus
DESCRIPTION:
URL:https://oregonshoppyplace.com/event/beer-event-with-zoiglhaus/
LOCATION:The Hoppy Brewer\, 328 N Main Avenue\, Gresham\, OR\, 97030\, United States
END:VEVENT
BEGIN:VEVENT
DTSTART;TZID=America/Los_Angeles:20180224T180000
DTEND;TZID=America/Los_Angeles:20180224T210000
DTSTAMP:20260423T063019
CREATED:20171107T211929Z
LAST-MODIFIED:20171107T211929Z
UID:2926-1519495200-1519506000@oregonshoppyplace.com
SUMMARY:Live Music with Kory Quinn
DESCRIPTION:
URL:https://oregonshoppyplace.com/event/live-music-with-kory-quinn/
LOCATION:The Hoppy Brewer\, 328 N Main Avenue\, Gresham\, OR\, 97030\, United States
END:VEVENT
BEGIN:VEVENT
DTSTART;TZID=America/Los_Angeles:20180223T180000
DTEND;TZID=America/Los_Angeles:20180223T210000
DTSTAMP:20260423T063019
CREATED:20171212T050605Z
LAST-MODIFIED:20171212T050605Z
UID:3031-1519408800-1519419600@oregonshoppyplace.com
SUMMARY:Live Music with Jonathan Smith Trio
DESCRIPTION:
URL:https://oregonshoppyplace.com/event/live-music-with-jonathan-smith-trio-17/
LOCATION:The Hoppy Brewer\, 328 N Main Avenue\, Gresham\, OR\, 97030\, United States
END:VEVENT
BEGIN:VEVENT
DTSTART;TZID=America/Los_Angeles:20180216T180000
DTEND;TZID=America/Los_Angeles:20180216T210000
DTSTAMP:20260423T063019
CREATED:20171110T212108Z
LAST-MODIFIED:20171205T213347Z
UID:2937-1518804000-1518814800@oregonshoppyplace.com
SUMMARY:Live Music with Scratchdog Stringband
DESCRIPTION:
URL:https://oregonshoppyplace.com/event/live-music-with-scratchdog-stringband-4/
LOCATION:The Hoppy Brewer\, 328 N Main Avenue\, Gresham\, OR\, 97030\, United States
END:VEVENT
BEGIN:VEVENT
DTSTART;TZID=America/Los_Angeles:20180215T183000
DTEND;TZID=America/Los_Angeles:20180215T203000
DTSTAMP:20260423T063019
CREATED:20180105T213911Z
LAST-MODIFIED:20180105T213911Z
UID:3091-1518719400-1518726600@oregonshoppyplace.com
SUMMARY:Beer Event with Great Divide
DESCRIPTION:
URL:https://oregonshoppyplace.com/event/beer-event-with-great-divide/
LOCATION:The Hoppy Brewer\, 328 N Main Avenue\, Gresham\, OR\, 97030\, United States
END:VEVENT
BEGIN:VEVENT
DTSTART;TZID=America/Los_Angeles:20180215T173000
DTEND;TZID=America/Los_Angeles:20180215T203000
DTSTAMP:20260423T063019
CREATED:20180109T220901Z
LAST-MODIFIED:20180109T220901Z
UID:3099-1518715800-1518726600@oregonshoppyplace.com
SUMMARY:Live Music with John Kaiser
DESCRIPTION:
URL:https://oregonshoppyplace.com/event/live-music-with-john-kaiser/
LOCATION:The Hoppy Brewer\, 328 N Main Avenue\, Gresham\, OR\, 97030\, United States
END:VEVENT
BEGIN:VEVENT
DTSTART;TZID=America/Los_Angeles:20180209T180000
DTEND;TZID=America/Los_Angeles:20180209T210000
DTSTAMP:20260423T063019
CREATED:20171109T182736Z
LAST-MODIFIED:20171109T182736Z
UID:2928-1518199200-1518210000@oregonshoppyplace.com
SUMMARY:Live Music with JT Wise Band
DESCRIPTION:
URL:https://oregonshoppyplace.com/event/live-music-with-jt-wise-band-3/
LOCATION:The Hoppy Brewer\, 328 N Main Avenue\, Gresham\, OR\, 97030\, United States
END:VEVENT
BEGIN:VEVENT
DTSTART;TZID=America/Los_Angeles:20180208T183000
DTEND;TZID=America/Los_Angeles:20180208T203000
DTSTAMP:20260423T063019
CREATED:20171213T210504Z
LAST-MODIFIED:20171213T210504Z
UID:3040-1518114600-1518121800@oregonshoppyplace.com
SUMMARY:Beer Event with Basecamp
DESCRIPTION:
URL:https://oregonshoppyplace.com/event/beer-event-with-basecamp/
LOCATION:The Hoppy Brewer\, 328 N Main Avenue\, Gresham\, OR\, 97030\, United States
END:VEVENT
BEGIN:VEVENT
DTSTART;TZID=America/Los_Angeles:20180203T180000
DTEND;TZID=America/Los_Angeles:20180203T210000
DTSTAMP:20260423T063019
CREATED:20171115T173318Z
LAST-MODIFIED:20171115T173319Z
UID:2958-1517680800-1517691600@oregonshoppyplace.com
SUMMARY:Live Music with Swingali
DESCRIPTION:
URL:https://oregonshoppyplace.com/event/live-music-with-swingali-2/
LOCATION:The Hoppy Brewer\, 328 N Main Avenue\, Gresham\, OR\, 97030\, United States
END:VEVENT
BEGIN:VEVENT
DTSTART;TZID=America/Los_Angeles:20180201T183000
DTEND;TZID=America/Los_Angeles:20180201T203000
DTSTAMP:20260423T063019
CREATED:20180111T030511Z
LAST-MODIFIED:20180111T030511Z
UID:3103-1517509800-1517517000@oregonshoppyplace.com
SUMMARY:Beer Event with Bent Shovel
DESCRIPTION:
URL:https://oregonshoppyplace.com/event/beer-event-with-bent-shovel/
LOCATION:The Hoppy Brewer\, 328 N Main Avenue\, Gresham\, OR\, 97030\, United States
END:VEVENT
BEGIN:VEVENT
DTSTART;TZID=America/Los_Angeles:20180126T180000
DTEND;TZID=America/Los_Angeles:20180126T210000
DTSTAMP:20260423T063019
CREATED:20171116T231715Z
LAST-MODIFIED:20171116T231935Z
UID:2967-1516989600-1517000400@oregonshoppyplace.com
SUMMARY:Live Music with Scratchdog Stringband
DESCRIPTION:
URL:https://oregonshoppyplace.com/event/live-music-with-scratchdog-stringband-8/
LOCATION:The Hoppy Brewer\, 328 N Main Avenue\, Gresham\, OR\, 97030\, United States
END:VEVENT
BEGIN:VEVENT
DTSTART;TZID=America/Los_Angeles:20180125T183000
DTEND;TZID=America/Los_Angeles:20180125T203000
DTSTAMP:20260423T063019
CREATED:20171119T003729Z
LAST-MODIFIED:20171119T003729Z
UID:2975-1516905000-1516912200@oregonshoppyplace.com
SUMMARY:Beer Event with Rogue
DESCRIPTION:
URL:https://oregonshoppyplace.com/event/beer-event-with-rogue/
LOCATION:The Hoppy Brewer\, 328 N Main Avenue\, Gresham\, OR\, 97030\, United States
END:VEVENT
BEGIN:VEVENT
DTSTART;TZID=America/Los_Angeles:20180119T180000
DTEND;TZID=America/Los_Angeles:20180119T210000
DTSTAMP:20260423T063019
CREATED:20171102T190636Z
LAST-MODIFIED:20171102T190636Z
UID:2898-1516384800-1516395600@oregonshoppyplace.com
SUMMARY:Live Music with Ky Burt
DESCRIPTION:
URL:https://oregonshoppyplace.com/event/live-music-with-ky-burt/
LOCATION:The Hoppy Brewer\, 328 N Main Avenue\, Gresham\, OR\, 97030\, United States
END:VEVENT
BEGIN:VEVENT
DTSTART;TZID=America/Los_Angeles:20180118T173000
DTEND;TZID=America/Los_Angeles:20180118T203000
DTSTAMP:20260423T063019
CREATED:20171227T212803Z
LAST-MODIFIED:20171227T212803Z
UID:3071-1516296600-1516307400@oregonshoppyplace.com
SUMMARY:Live Music with Bob Voll
DESCRIPTION:As part of our Third Thursday series
URL:https://oregonshoppyplace.com/event/live-music-with-bob-voll/
LOCATION:The Hoppy Brewer\, 328 N Main Avenue\, Gresham\, OR\, 97030\, United States
END:VEVENT
BEGIN:VEVENT
DTSTART;TZID=America/Los_Angeles:20180118T173000
DTEND;TZID=America/Los_Angeles:20180118T203000
DTSTAMP:20260423T063019
CREATED:20171004T005644Z
LAST-MODIFIED:20171227T222454Z
UID:2806-1516296600-1516307400@oregonshoppyplace.com
SUMMARY:Beer Event with Culmination Brewing
DESCRIPTION:
URL:https://oregonshoppyplace.com/event/beer-event-with-culmination-brewing/
LOCATION:The Hoppy Brewer\, 328 N Main Avenue\, Gresham\, OR\, 97030\, United States
END:VEVENT
BEGIN:VEVENT
DTSTART;TZID=America/Los_Angeles:20180117T190000
DTEND;TZID=America/Los_Angeles:20180117T210000
DTSTAMP:20260423T063019
CREATED:20171227T222125Z
LAST-MODIFIED:20171227T222125Z
UID:3083-1516215600-1516222800@oregonshoppyplace.com
SUMMARY:Gresham Mashers HBC Meeting
DESCRIPTION:
URL:https://oregonshoppyplace.com/event/gresham-mashers-hbc-meeting-14/
LOCATION:The Hoppy Brewer\, 328 N Main Avenue\, Gresham\, OR\, 97030\, United States
END:VEVENT
BEGIN:VEVENT
DTSTART;TZID=America/Los_Angeles:20180112T180000
DTEND;TZID=America/Los_Angeles:20180112T210000
DTSTAMP:20260423T063019
CREATED:20171031T025030Z
LAST-MODIFIED:20171031T025056Z
UID:2896-1515780000-1515790800@oregonshoppyplace.com
SUMMARY:Live Music with Jonathan Smith Trio
DESCRIPTION:
URL:https://oregonshoppyplace.com/event/live-music-with-jonathan-smith-trio-16/
LOCATION:The Hoppy Brewer\, 328 N Main Avenue\, Gresham\, OR\, 97030\, United States
END:VEVENT
BEGIN:VEVENT
DTSTART;TZID=America/Los_Angeles:20180111T183000
DTEND;TZID=America/Los_Angeles:20180111T203000
DTSTAMP:20260423T063019
CREATED:20171004T005529Z
LAST-MODIFIED:20171004T005529Z
UID:2804-1515695400-1515702600@oregonshoppyplace.com
SUMMARY:Beer Event with Natian Brewing
DESCRIPTION:
URL:https://oregonshoppyplace.com/event/beer-event-with-natian-brewing/
LOCATION:The Hoppy Brewer\, 328 N Main Avenue\, Gresham\, OR\, 97030\, United States
END:VEVENT
END:VCALENDAR