BEGIN:VCALENDAR
VERSION:2.0
PRODID:-//THE HOPPY BREWER - ECPv6.15.20//NONSGML v1.0//EN
CALSCALE:GREGORIAN
METHOD:PUBLISH
X-WR-CALNAME:THE HOPPY BREWER
X-ORIGINAL-URL:https://oregonshoppyplace.com
X-WR-CALDESC:Events for THE HOPPY BREWER
REFRESH-INTERVAL;VALUE=DURATION:PT1H
X-Robots-Tag:noindex
X-PUBLISHED-TTL:PT1H
BEGIN:VTIMEZONE
TZID:America/Los_Angeles
BEGIN:DAYLIGHT
TZOFFSETFROM:-0800
TZOFFSETTO:-0700
TZNAME:PDT
DTSTART:20160313T100000
END:DAYLIGHT
BEGIN:STANDARD
TZOFFSETFROM:-0700
TZOFFSETTO:-0800
TZNAME:PST
DTSTART:20161106T090000
END:STANDARD
BEGIN:DAYLIGHT
TZOFFSETFROM:-0800
TZOFFSETTO:-0700
TZNAME:PDT
DTSTART:20170312T100000
END:DAYLIGHT
BEGIN:STANDARD
TZOFFSETFROM:-0700
TZOFFSETTO:-0800
TZNAME:PST
DTSTART:20171105T090000
END:STANDARD
BEGIN:DAYLIGHT
TZOFFSETFROM:-0800
TZOFFSETTO:-0700
TZNAME:PDT
DTSTART:20180311T100000
END:DAYLIGHT
BEGIN:STANDARD
TZOFFSETFROM:-0700
TZOFFSETTO:-0800
TZNAME:PST
DTSTART:20181104T090000
END:STANDARD
END:VTIMEZONE
BEGIN:VEVENT
DTSTART;TZID=America/Los_Angeles:20171216T120000
DTEND;TZID=America/Los_Angeles:20171216T220000
DTSTAMP:20260423T131320
CREATED:20170829T000315Z
LAST-MODIFIED:20171211T161011Z
UID:2655-1513425600-1513461600@oregonshoppyplace.com
SUMMARY:Winter's Welcome
DESCRIPTION:Celebrating the first of Winter with the finest taplists anywhere including special tappings from Sierra Nevada with a fresh CASK of Celebration Ale.   Kat will be here representing from 3-6\, then\, live music with the Crooked Corner Band from 6-9.  So join us for a deliciously rock’n good time….CHEERS…!!!
URL:https://oregonshoppyplace.com/event/winters-welcome-2/
LOCATION:The Hoppy Brewer\, 328 N Main Avenue\, Gresham\, OR\, 97030\, United States
END:VEVENT
BEGIN:VEVENT
DTSTART;TZID=America/Los_Angeles:20171215T180000
DTEND;TZID=America/Los_Angeles:20171215T210000
DTSTAMP:20260423T131320
CREATED:20170727T145244Z
LAST-MODIFIED:20170919T033039Z
UID:2534-1513360800-1513371600@oregonshoppyplace.com
SUMMARY:Live Music with Plutons Trio
DESCRIPTION:
URL:https://oregonshoppyplace.com/event/live-music-with-plutons-trio-4/
LOCATION:The Hoppy Brewer\, 328 N Main Avenue\, Gresham\, OR\, 97030\, United States
END:VEVENT
BEGIN:VEVENT
DTSTART;TZID=America/Los_Angeles:20171214T183000
DTEND;TZID=America/Los_Angeles:20171214T203000
DTSTAMP:20260423T131320
CREATED:20170919T035716Z
LAST-MODIFIED:20171211T161156Z
UID:2748-1513276200-1513283400@oregonshoppyplace.com
SUMMARY:Beer Event with Full Sail Brewing
DESCRIPTION:This event will feature rare Barrel Aged beers……
URL:https://oregonshoppyplace.com/event/beer-event-with-full-sail-brewing/
LOCATION:The Hoppy Brewer\, 328 N Main Avenue\, Gresham\, OR\, 97030\, United States
END:VEVENT
BEGIN:VEVENT
DTSTART;TZID=America/Los_Angeles:20171208T180000
DTEND;TZID=America/Los_Angeles:20171208T210000
DTSTAMP:20260423T131320
CREATED:20170727T145859Z
LAST-MODIFIED:20170919T032908Z
UID:2538-1512756000-1512766800@oregonshoppyplace.com
SUMMARY:Live Music with Jonathan Smith Trio
DESCRIPTION:
URL:https://oregonshoppyplace.com/event/live-music-with-jonathan-smith-trio-14/
LOCATION:The Hoppy Brewer\, 328 N Main Avenue\, Gresham\, OR\, 97030\, United States
END:VEVENT
BEGIN:VEVENT
DTSTART;TZID=America/Los_Angeles:20171207T170000
DTEND;TZID=America/Los_Angeles:20171207T190000
DTSTAMP:20260423T131320
CREATED:20170919T035605Z
LAST-MODIFIED:20171120T214032Z
UID:2746-1512666000-1512673200@oregonshoppyplace.com
SUMMARY:Beer Event with Firestone Walker
DESCRIPTION:
URL:https://oregonshoppyplace.com/event/beer-event-with-two-beers-brewing/
LOCATION:The Hoppy Brewer\, 328 N Main Avenue\, Gresham\, OR\, 97030\, United States
END:VEVENT
BEGIN:VEVENT
DTSTART;TZID=America/Los_Angeles:20171202T180000
DTEND;TZID=America/Los_Angeles:20171202T210000
DTSTAMP:20260423T131320
CREATED:20170411T142602Z
LAST-MODIFIED:20171114T021451Z
UID:2013-1512237600-1512248400@oregonshoppyplace.com
SUMMARY:Live Music featuring Swingali
DESCRIPTION:
URL:https://oregonshoppyplace.com/event/live-music-featuring-swingali-15/
LOCATION:The Hoppy Brewer\, 328 N Main Avenue\, Gresham\, OR\, 97030\, United States
END:VEVENT
BEGIN:VEVENT
DTSTART;TZID=America/Los_Angeles:20171201T180000
DTEND;TZID=America/Los_Angeles:20171201T210000
DTSTAMP:20260423T131320
CREATED:20170824T150215Z
LAST-MODIFIED:20171113T214323Z
UID:2641-1512151200-1512162000@oregonshoppyplace.com
SUMMARY:Live Music with Mesa\, Reynolds\, Hadden
DESCRIPTION:
URL:https://oregonshoppyplace.com/event/live-music-with-reynolds-and-drake-3/
LOCATION:The Hoppy Brewer\, 328 N Main Avenue\, Gresham\, OR\, 97030\, United States
END:VEVENT
BEGIN:VEVENT
DTSTART;TZID=America/Los_Angeles:20171130T183000
DTEND;TZID=America/Los_Angeles:20171130T203000
DTSTAMP:20260423T131320
CREATED:20170919T035418Z
LAST-MODIFIED:20170919T035418Z
UID:2744-1512066600-1512073800@oregonshoppyplace.com
SUMMARY:Beer Event with Hop Works Brewing
DESCRIPTION:
URL:https://oregonshoppyplace.com/event/beer-event-with-hop-works-brewing/
LOCATION:The Hoppy Brewer\, 328 N Main Avenue\, Gresham\, OR\, 97030\, United States
END:VEVENT
BEGIN:VEVENT
DTSTART;TZID=America/Los_Angeles:20171125T183000
DTEND;TZID=America/Los_Angeles:20171125T213000
DTSTAMP:20260423T131320
CREATED:20170829T001108Z
LAST-MODIFIED:20171116T231458Z
UID:2659-1511634600-1511645400@oregonshoppyplace.com
SUMMARY:Spirit of Christmas Jazz featuring the Tim Paxton Quartet
DESCRIPTION:Welcome to the 6th. Annual Spirit of Christmas Jazz where at 6:30 following the tree lighting ceremony in Historic Downtown Gresham\, \nthe Tim Paxton Quartet will be performing Christmas Classics all jazzed up so get ready for a highly spirited night of music…
URL:https://oregonshoppyplace.com/event/spirit-of-christmas-jazz-featuring-the-tim-paxton-quartet/
LOCATION:The Hoppy Brewer\, 328 N Main Avenue\, Gresham\, OR\, 97030\, United States
END:VEVENT
BEGIN:VEVENT
DTSTART;TZID=America/Los_Angeles:20171124T180000
DTEND;TZID=America/Los_Angeles:20171124T210000
DTSTAMP:20260423T131320
CREATED:20170626T050030Z
LAST-MODIFIED:20171116T230602Z
UID:2395-1511546400-1511557200@oregonshoppyplace.com
SUMMARY:Black Friday Special: Live Music with Scratchdog Stringband and Tapping of Rare Dark Beers
DESCRIPTION:We can’t think of a better way to kick off Black Friday than with the tapping of Rare\, Dark\, Delicious\, Boozy Beers from such breweries as Firestone Walker\, North Coast and Goose Island to mention a few……This will start at 11am and go til we close at 11pm.  And of course\, we have Gresham’s favorite band\, Scratchdog Stringband playing from 6-9.  So\, Yeah Buddy\, let’s get this party started..!!!
URL:https://oregonshoppyplace.com/event/live-music-with-scratchdog-stringband-5/
LOCATION:The Hoppy Brewer\, 328 N Main Avenue\, Gresham\, OR\, 97030\, United States
END:VEVENT
BEGIN:VEVENT
DTSTART;VALUE=DATE:20171123
DTEND;VALUE=DATE:20171124
DTSTAMP:20260423T131320
CREATED:20170829T010555Z
LAST-MODIFIED:20170829T010555Z
UID:2661-1511395200-1511481599@oregonshoppyplace.com
SUMMARY:Closed For Thanksgiving
DESCRIPTION:
URL:https://oregonshoppyplace.com/event/closed-for-thanksgiving-2/
LOCATION:The Hoppy Brewer\, 328 N Main Avenue\, Gresham\, OR\, 97030\, United States
END:VEVENT
BEGIN:VEVENT
DTSTART;TZID=America/Los_Angeles:20171122T190000
DTEND;TZID=America/Los_Angeles:20171122T210000
DTSTAMP:20260423T131320
CREATED:20171030T233144Z
LAST-MODIFIED:20171030T233144Z
UID:2894-1511377200-1511384400@oregonshoppyplace.com
SUMMARY:Gresham Mashers HBC Meeting
DESCRIPTION:
URL:https://oregonshoppyplace.com/event/gresham-mashers-hbc-meeting-12/
LOCATION:The Hoppy Brewer\, 328 N Main Avenue\, Gresham\, OR\, 97030\, United States
END:VEVENT
BEGIN:VEVENT
DTSTART;TZID=America/Los_Angeles:20171117T180000
DTEND;TZID=America/Los_Angeles:20171117T210000
DTSTAMP:20260423T131320
CREATED:20170727T145106Z
LAST-MODIFIED:20170919T033533Z
UID:2532-1510941600-1510952400@oregonshoppyplace.com
SUMMARY:Live Music with Plutons Trio
DESCRIPTION:
URL:https://oregonshoppyplace.com/event/live-music-with-plutons-trio-3/
LOCATION:The Hoppy Brewer\, 328 N Main Avenue\, Gresham\, OR\, 97030\, United States
END:VEVENT
BEGIN:VEVENT
DTSTART;TZID=America/Los_Angeles:20171116T173000
DTEND;TZID=America/Los_Angeles:20171116T203000
DTSTAMP:20260423T131320
CREATED:20170804T220340Z
LAST-MODIFIED:20170804T220340Z
UID:2583-1510853400-1510864200@oregonshoppyplace.com
SUMMARY:Live Music with Too Loose
DESCRIPTION:
URL:https://oregonshoppyplace.com/event/live-music-with-too-loose-2/
LOCATION:The Hoppy Brewer\, 328 N Main Avenue\, Gresham\, OR\, 97030\, United States
END:VEVENT
BEGIN:VEVENT
DTSTART;TZID=America/Los_Angeles:20171116T053000
DTEND;TZID=America/Los_Angeles:20171116T200000
DTSTAMP:20260423T131320
CREATED:20170822T195300Z
LAST-MODIFIED:20171019T160612Z
UID:2637-1510810200-1510862400@oregonshoppyplace.com
SUMMARY:Beer Event with Two Beers Brewing
DESCRIPTION:
URL:https://oregonshoppyplace.com/event/beer-event-with-firestone-walker-2/
LOCATION:The Hoppy Brewer\, 328 N Main Avenue\, Gresham\, OR\, 97030\, United States
END:VEVENT
BEGIN:VEVENT
DTSTART;TZID=America/Los_Angeles:20171110T180000
DTEND;TZID=America/Los_Angeles:20171110T210000
DTSTAMP:20260423T131320
CREATED:20170727T145801Z
LAST-MODIFIED:20170919T033657Z
UID:2536-1510336800-1510347600@oregonshoppyplace.com
SUMMARY:Live Music with Jonathan Smith Trio
DESCRIPTION:
URL:https://oregonshoppyplace.com/event/live-music-with-jonathan-smith-trio-13/
LOCATION:The Hoppy Brewer\, 328 N Main Avenue\, Gresham\, OR\, 97030\, United States
END:VEVENT
BEGIN:VEVENT
DTSTART;TZID=America/Los_Angeles:20171109T183000
DTEND;TZID=America/Los_Angeles:20171109T203000
DTSTAMP:20260423T131320
CREATED:20170601T005249Z
LAST-MODIFIED:20170601T005310Z
UID:2295-1510252200-1510259400@oregonshoppyplace.com
SUMMARY:Beer Event with Founders Brewing
DESCRIPTION:
URL:https://oregonshoppyplace.com/event/beer-event-with-founder-brewing/
LOCATION:The Hoppy Brewer\, 328 N Main Avenue\, Gresham\, OR\, 97030\, United States
END:VEVENT
BEGIN:VEVENT
DTSTART;TZID=America/Los_Angeles:20171104T160000
DTEND;TZID=America/Los_Angeles:20171104T190000
DTSTAMP:20260423T131320
CREATED:20170411T142357Z
LAST-MODIFIED:20171030T153541Z
UID:2011-1509811200-1509822000@oregonshoppyplace.com
SUMMARY:Live Music featuring Swingali
DESCRIPTION:
URL:https://oregonshoppyplace.com/event/live-music-featuring-swingali-14/
LOCATION:The Hoppy Brewer\, 328 N Main Avenue\, Gresham\, OR\, 97030\, United States
END:VEVENT
BEGIN:VEVENT
DTSTART;TZID=America/Los_Angeles:20171102T183000
DTEND;TZID=America/Los_Angeles:20171102T203000
DTSTAMP:20260423T131320
CREATED:20170919T035245Z
LAST-MODIFIED:20170919T035245Z
UID:2742-1509647400-1509654600@oregonshoppyplace.com
SUMMARY:Beer Event with Rogue Brewing
DESCRIPTION:
URL:https://oregonshoppyplace.com/event/beer-event-with-rogue-brewing/
LOCATION:The Hoppy Brewer\, 328 N Main Avenue\, Gresham\, OR\, 97030\, United States
END:VEVENT
BEGIN:VEVENT
DTSTART;TZID=America/Los_Angeles:20171027T180000
DTEND;TZID=America/Los_Angeles:20171027T210000
DTSTAMP:20260423T131320
CREATED:20170923T192829Z
LAST-MODIFIED:20170923T193145Z
UID:2775-1509127200-1509138000@oregonshoppyplace.com
SUMMARY:Live Music with Just Kicking
DESCRIPTION:
URL:https://oregonshoppyplace.com/event/live-music-with-just-kicking/
LOCATION:The Hoppy Brewer\, 328 N Main Avenue\, Gresham\, OR\, 97030\, United States
END:VEVENT
BEGIN:VEVENT
DTSTART;TZID=America/Los_Angeles:20171020T180000
DTEND;TZID=America/Los_Angeles:20171020T210000
DTSTAMP:20260423T131320
CREATED:20170728T135422Z
LAST-MODIFIED:20170919T033731Z
UID:2545-1508522400-1508533200@oregonshoppyplace.com
SUMMARY:Live Music with Jonathan Smith Trio
DESCRIPTION:
URL:https://oregonshoppyplace.com/event/live-music-with-jonathan-smith-trio-15/
LOCATION:The Hoppy Brewer\, 328 N Main Avenue\, Gresham\, OR\, 97030\, United States
END:VEVENT
BEGIN:VEVENT
DTSTART;TZID=America/Los_Angeles:20171019T173000
DTEND;TZID=America/Los_Angeles:20171019T203000
DTSTAMP:20260423T131320
CREATED:20170804T220153Z
LAST-MODIFIED:20170804T220153Z
UID:2581-1508434200-1508445000@oregonshoppyplace.com
SUMMARY:Live Music with Too Loose
DESCRIPTION:
URL:https://oregonshoppyplace.com/event/live-music-with-too-loose/
LOCATION:The Hoppy Brewer\, 328 N Main Avenue\, Gresham\, OR\, 97030\, United States
END:VEVENT
BEGIN:VEVENT
DTSTART;TZID=America/Los_Angeles:20171019T173000
DTEND;TZID=America/Los_Angeles:20171019T200000
DTSTAMP:20260423T131320
CREATED:20170817T145507Z
LAST-MODIFIED:20170817T145704Z
UID:2623-1508434200-1508443200@oregonshoppyplace.com
SUMMARY:Beer Event with Gigantic
DESCRIPTION:
URL:https://oregonshoppyplace.com/event/beer-event-with-gigantic/
LOCATION:The Hoppy Brewer\, 328 N Main Avenue\, Gresham\, OR\, 97030\, United States
END:VEVENT
BEGIN:VEVENT
DTSTART;TZID=America/Los_Angeles:20171013T180000
DTEND;TZID=America/Los_Angeles:20171013T210000
DTSTAMP:20260423T131320
CREATED:20170727T144949Z
LAST-MODIFIED:20171002T130614Z
UID:2530-1507917600-1507928400@oregonshoppyplace.com
SUMMARY:Live Music with Jonathan Smith Trio
DESCRIPTION:
URL:https://oregonshoppyplace.com/event/live-music-with-plutons-trio-2/
LOCATION:The Hoppy Brewer\, 328 N Main Avenue\, Gresham\, OR\, 97030\, United States
END:VEVENT
BEGIN:VEVENT
DTSTART;TZID=America/Los_Angeles:20171012T183000
DTEND;TZID=America/Los_Angeles:20171012T203000
DTSTAMP:20260423T131320
CREATED:20170831T143522Z
LAST-MODIFIED:20170831T143522Z
UID:2677-1507833000-1507840200@oregonshoppyplace.com
SUMMARY:Beer Event with Ballast Point
DESCRIPTION:
URL:https://oregonshoppyplace.com/event/beer-event-with-ballast-point/
LOCATION:The Hoppy Brewer\, 328 N Main Avenue\, Gresham\, OR\, 97030\, United States
END:VEVENT
BEGIN:VEVENT
DTSTART;TZID=America/Los_Angeles:20171007T140000
DTEND;TZID=America/Los_Angeles:20171007T170000
DTSTAMP:20260423T131320
CREATED:20170411T142246Z
LAST-MODIFIED:20170928T170215Z
UID:2009-1507384800-1507395600@oregonshoppyplace.com
SUMMARY:Live Music featuring Swingali
DESCRIPTION:
URL:https://oregonshoppyplace.com/event/live-music-featuring-swingali-13/
LOCATION:The Hoppy Brewer\, 328 N Main Avenue\, Gresham\, OR\, 97030\, United States
END:VEVENT
BEGIN:VEVENT
DTSTART;TZID=America/Los_Angeles:20171006T180000
DTEND;TZID=America/Los_Angeles:20171006T210000
DTSTAMP:20260423T131320
CREATED:20170824T150120Z
LAST-MODIFIED:20170928T163615Z
UID:2639-1507312800-1507323600@oregonshoppyplace.com
SUMMARY:Live Music with Mark Reynolds
DESCRIPTION:
URL:https://oregonshoppyplace.com/event/live-music-with-reynolds-and-drake-2/
LOCATION:The Hoppy Brewer\, 328 N Main Avenue\, Gresham\, OR\, 97030\, United States
END:VEVENT
BEGIN:VEVENT
DTSTART;TZID=America/Los_Angeles:20171005T183000
DTEND;TZID=America/Los_Angeles:20171005T203000
DTSTAMP:20260423T131320
CREATED:20170923T191900Z
LAST-MODIFIED:20170923T191900Z
UID:2773-1507228200-1507235400@oregonshoppyplace.com
SUMMARY:Beer Event with Golden Valley Brewing
DESCRIPTION:
URL:https://oregonshoppyplace.com/event/beer-event-with-golden-valley-brewing/
LOCATION:The Hoppy Brewer\, 328 N Main Avenue\, Gresham\, OR\, 97030\, United States
END:VEVENT
BEGIN:VEVENT
DTSTART;VALUE=DATE:20171001
DTEND;VALUE=DATE:20171101
DTSTAMP:20260423T131320
CREATED:20171010T210414Z
LAST-MODIFIED:20171010T210514Z
UID:2836-1506816000-1509494399@oregonshoppyplace.com
SUMMARY:Therapeutic Wilderness Awareness Fundraiser
DESCRIPTION:October is Therapeutic Wilderness Awareness Month!\nThroughout the month of October\, The Hoppy Brewer will donate $1 from every pint of Fresh Stash by Krauski’s Brewskis that we serve to the Jason William Hunt Foundation to help fund its Therapeutic Wilderness Awareness program which enables at-risk teens to attend therapeutic wilderness expedition treatment programs.
URL:https://oregonshoppyplace.com/event/therapeutic-wilderness-awareness-fundraiser/
LOCATION:The Hoppy Brewer\, 328 N Main Avenue\, Gresham\, OR\, 97030\, United States
END:VEVENT
BEGIN:VEVENT
DTSTART;TZID=America/Los_Angeles:20170929T190000
DTEND;TZID=America/Los_Angeles:20170929T220000
DTSTAMP:20260423T131320
CREATED:20170807T202027Z
LAST-MODIFIED:20170807T202027Z
UID:2587-1506711600-1506722400@oregonshoppyplace.com
SUMMARY:Live Music with The Big North Duo
DESCRIPTION:
URL:https://oregonshoppyplace.com/event/live-music-with-the-big-north-duo/
LOCATION:The Hoppy Brewer\, 328 N Main Avenue\, Gresham\, OR\, 97030\, United States
END:VEVENT
END:VCALENDAR