BEGIN:VCALENDAR
VERSION:2.0
PRODID:-//THE HOPPY BREWER - ECPv6.15.20//NONSGML v1.0//EN
CALSCALE:GREGORIAN
METHOD:PUBLISH
X-WR-CALNAME:THE HOPPY BREWER
X-ORIGINAL-URL:https://oregonshoppyplace.com
X-WR-CALDESC:Events for THE HOPPY BREWER
REFRESH-INTERVAL;VALUE=DURATION:PT1H
X-Robots-Tag:noindex
X-PUBLISHED-TTL:PT1H
BEGIN:VTIMEZONE
TZID:America/Los_Angeles
BEGIN:DAYLIGHT
TZOFFSETFROM:-0800
TZOFFSETTO:-0700
TZNAME:PDT
DTSTART:20250309T100000
END:DAYLIGHT
BEGIN:STANDARD
TZOFFSETFROM:-0700
TZOFFSETTO:-0800
TZNAME:PST
DTSTART:20251102T090000
END:STANDARD
BEGIN:DAYLIGHT
TZOFFSETFROM:-0800
TZOFFSETTO:-0700
TZNAME:PDT
DTSTART:20260308T100000
END:DAYLIGHT
BEGIN:STANDARD
TZOFFSETFROM:-0700
TZOFFSETTO:-0800
TZNAME:PST
DTSTART:20261101T090000
END:STANDARD
BEGIN:DAYLIGHT
TZOFFSETFROM:-0800
TZOFFSETTO:-0700
TZNAME:PDT
DTSTART:20270314T100000
END:DAYLIGHT
BEGIN:STANDARD
TZOFFSETFROM:-0700
TZOFFSETTO:-0800
TZNAME:PST
DTSTART:20271107T090000
END:STANDARD
END:VTIMEZONE
BEGIN:VEVENT
DTSTART;TZID=America/Los_Angeles:20260606T180000
DTEND;TZID=America/Los_Angeles:20260606T210000
DTSTAMP:20260422T080153
CREATED:20260306T212306Z
LAST-MODIFIED:20260308T021212Z
UID:8340-1780768800-1780779600@oregonshoppyplace.com
SUMMARY:Live Music with Woodlander
DESCRIPTION:
URL:https://oregonshoppyplace.com/event/live-music-with-woodlander-19/
END:VEVENT
BEGIN:VEVENT
DTSTART;TZID=America/Los_Angeles:20260611T180000
DTEND;TZID=America/Los_Angeles:20260611T200000
DTSTAMP:20260422T080153
CREATED:20260402T193945Z
LAST-MODIFIED:20260402T193949Z
UID:8380-1781200800-1781208000@oregonshoppyplace.com
SUMMARY:Beer Tasting with Gorges Brewing
DESCRIPTION:
URL:https://oregonshoppyplace.com/event/beer-tasting-with-gorges-brewing/
END:VEVENT
BEGIN:VEVENT
DTSTART;TZID=America/Los_Angeles:20260612T180000
DTEND;TZID=America/Los_Angeles:20260612T210000
DTSTAMP:20260422T080153
CREATED:20260413T174939Z
LAST-MODIFIED:20260413T175014Z
UID:8405-1781287200-1781298000@oregonshoppyplace.com
SUMMARY:Live Music with Lennon Holden
DESCRIPTION:
URL:https://oregonshoppyplace.com/event/live-music-with-lennon-holden-3/
END:VEVENT
BEGIN:VEVENT
DTSTART;TZID=America/Los_Angeles:20260620T180000
DTEND;TZID=America/Los_Angeles:20260620T210000
DTSTAMP:20260422T080153
CREATED:20260409T201141Z
LAST-MODIFIED:20260409T201143Z
UID:8401-1781978400-1781989200@oregonshoppyplace.com
SUMMARY:Live Music with Linoy Yechieli
DESCRIPTION:
URL:https://oregonshoppyplace.com/event/live-music-with-linoy-yechieli/
END:VEVENT
BEGIN:VEVENT
DTSTART;TZID=America/Los_Angeles:20260626T180000
DTEND;TZID=America/Los_Angeles:20260626T210000
DTSTAMP:20260422T080153
CREATED:20260403T214556Z
LAST-MODIFIED:20260403T214600Z
UID:8386-1782496800-1782507600@oregonshoppyplace.com
SUMMARY:Live Music with JT Wise
DESCRIPTION:
URL:https://oregonshoppyplace.com/event/live-music-with-jt-wise-5/
END:VEVENT
END:VCALENDAR